BEGIN:VCALENDAR
VERSION:2.0
PRODID:-//【得する街のゼミナール】すみだまちゼミ - ECPv6.7.0//NONSGML v1.0//EN
CALSCALE:GREGORIAN
METHOD:PUBLISH
X-WR-CALNAME:【得する街のゼミナール】すみだまちゼミ
X-ORIGINAL-URL:https://sumidazemi.com
X-WR-CALDESC:【得する街のゼミナール】すみだまちゼミ のイベント
REFRESH-INTERVAL;VALUE=DURATION:PT1H
X-Robots-Tag:noindex
X-PUBLISHED-TTL:PT1H
BEGIN:VTIMEZONE
TZID:Asia/Tokyo
BEGIN:STANDARD
TZOFFSETFROM:+0900
TZOFFSETTO:+0900
TZNAME:JST
DTSTART:20250101T000000
END:STANDARD
END:VTIMEZONE
BEGIN:VEVENT
DTSTART;TZID=Asia/Tokyo:20250826T190000
DTEND;TZID=Asia/Tokyo:20250826T200000
DTSTAMP:20260422T121647
CREATED:20250723T095334Z
LAST-MODIFIED:20250723T095334Z
UID:3037-1756234800-1756238400@sumidazemi.com
SUMMARY:時代に左右されない食の選択講座
DESCRIPTION:時代に左右されない食の選択講座2025.8.6今の食の選択は将来どんな影響が！？実際に食材を見たり比べたりして何を選ぶかゲームしながら学びます。【“家族の未来”をまもるサロン Smile Plus Bio】...
URL:https://sumidazemi.com/event/seki/
CATEGORIES:コラボ
ATTACH;FMTTYPE=image/png:https://sumidazemi.com/wp-content/uploads/2025/07/48.png
END:VEVENT
END:VCALENDAR