BEGIN:VCALENDAR
VERSION:2.0
PRODID:-//【得する街のゼミナール】すみだまちゼミ - ECPv6.7.0//NONSGML v1.0//EN
CALSCALE:GREGORIAN
METHOD:PUBLISH
X-WR-CALNAME:【得する街のゼミナール】すみだまちゼミ
X-ORIGINAL-URL:https://sumidazemi.com
X-WR-CALDESC:【得する街のゼミナール】すみだまちゼミ のイベント
REFRESH-INTERVAL;VALUE=DURATION:PT1H
X-Robots-Tag:noindex
X-PUBLISHED-TTL:PT1H
BEGIN:VTIMEZONE
TZID:Asia/Tokyo
BEGIN:STANDARD
TZOFFSETFROM:+0900
TZOFFSETTO:+0900
TZNAME:JST
DTSTART:20250101T000000
END:STANDARD
END:VTIMEZONE
BEGIN:VEVENT
DTSTART;TZID=Asia/Tokyo:20250901T110000
DTEND;TZID=Asia/Tokyo:20250901T120000
DTSTAMP:20260422T104211
CREATED:20250723T094921Z
LAST-MODIFIED:20250723T094921Z
UID:3028-1756724400-1756728000@sumidazemi.com
SUMMARY:【ポカン口】10歳までにできるお口の体操
DESCRIPTION:【ポカン口】10歳までにできるお口の体操2025.7.8遊び感覚で楽しく学べる、子どものためのお口の発達体操講座。子連れでも大歓迎！おむつ替えの場所もご用意あります。【CreativePocket株式会社　墨田区菊川1-1-11　プレシ...
URL:https://sumidazemi.com/event/creativepocket-6/
CATEGORIES:コラボ
ATTACH;FMTTYPE=image/png:https://sumidazemi.com/wp-content/uploads/2025/07/46.png
END:VEVENT
END:VCALENDAR