BEGIN:VCALENDAR
VERSION:2.0
PRODID:-//【得する街のゼミナール】すみだまちゼミ - ECPv6.7.0//NONSGML v1.0//EN
CALSCALE:GREGORIAN
METHOD:PUBLISH
X-ORIGINAL-URL:https://sumidazemi.com
X-WR-CALDESC:【得する街のゼミナール】すみだまちゼミ のイベント
REFRESH-INTERVAL;VALUE=DURATION:PT1H
X-Robots-Tag:noindex
X-PUBLISHED-TTL:PT1H
BEGIN:VTIMEZONE
TZID:Asia/Tokyo
BEGIN:STANDARD
TZOFFSETFROM:+0900
TZOFFSETTO:+0900
TZNAME:JST
DTSTART:20250101T000000
END:STANDARD
END:VTIMEZONE
BEGIN:VEVENT
DTSTART;TZID=Asia/Tokyo:20250916T190000
DTEND;TZID=Asia/Tokyo:20250916T200000
DTSTAMP:20260422T104218
CREATED:20250723T101114Z
LAST-MODIFIED:20250723T101114Z
UID:3040-1758049200-1758052800@sumidazemi.com
SUMMARY:家計簿見直し会
DESCRIPTION:家計簿見直し会2025.8.6家計簿を見直して、使っていないけど払い続けてるものや、安くで済むものに高く払ってる項目を見つけよう！【“家族の未来”をまもるサロン Smile Plus Bio】...
URL:https://sumidazemi.com/event/seki-2/
CATEGORIES:コラボ
ATTACH;FMTTYPE=image/png:https://sumidazemi.com/wp-content/uploads/2025/07/50.png
END:VEVENT
END:VCALENDAR