BEGIN:VCALENDAR
VERSION:2.0
PRODID:-//【得する街のゼミナール】すみだまちゼミ - ECPv6.7.0//NONSGML v1.0//EN
CALSCALE:GREGORIAN
METHOD:PUBLISH
X-WR-CALNAME:【得する街のゼミナール】すみだまちゼミ
X-ORIGINAL-URL:https://sumidazemi.com
X-WR-CALDESC:【得する街のゼミナール】すみだまちゼミ のイベント
REFRESH-INTERVAL;VALUE=DURATION:PT1H
X-Robots-Tag:noindex
X-PUBLISHED-TTL:PT1H
BEGIN:VTIMEZONE
TZID:Asia/Tokyo
BEGIN:STANDARD
TZOFFSETFROM:+0900
TZOFFSETTO:+0900
TZNAME:JST
DTSTART:20240101T000000
END:STANDARD
END:VTIMEZONE
BEGIN:VEVENT
DTSTART;TZID=Asia/Tokyo:20241016T110000
DTEND;TZID=Asia/Tokyo:20241016T120000
DTSTAMP:20260422T071723
CREATED:20240930T155241Z
LAST-MODIFIED:20241006T134317Z
UID:1493-1729076400-1729080000@sumidazemi.com
SUMMARY:【満員】甘いひとときを〜チョコレート工房ツアー
DESCRIPTION:https://sumidazemi.com/sunnychocolate/
URL:https://sumidazemi.com/event/sunnychocolate/
CATEGORIES:食べる
ATTACH;FMTTYPE=image/jpeg:https://sumidazemi.com/wp-content/uploads/2024/09/すみだまちゼミ　アイキャッチ.jpg
END:VEVENT
END:VCALENDAR