BEGIN:VCALENDAR
VERSION:2.0
PRODID:-//【得する街のゼミナール】すみだまちゼミ - ECPv6.7.0//NONSGML v1.0//EN
CALSCALE:GREGORIAN
METHOD:PUBLISH
X-ORIGINAL-URL:https://sumidazemi.com
X-WR-CALDESC:【得する街のゼミナール】すみだまちゼミ のイベント
REFRESH-INTERVAL;VALUE=DURATION:PT1H
X-Robots-Tag:noindex
X-PUBLISHED-TTL:PT1H
BEGIN:VTIMEZONE
TZID:Asia/Tokyo
BEGIN:STANDARD
TZOFFSETFROM:+0900
TZOFFSETTO:+0900
TZNAME:JST
DTSTART:20240101T000000
END:STANDARD
END:VTIMEZONE
BEGIN:VEVENT
DTSTART;TZID=Asia/Tokyo:20241020T140000
DTEND;TZID=Asia/Tokyo:20241020T150000
DTSTAMP:20260422T071730
CREATED:20240930T160736Z
LAST-MODIFIED:20240930T160736Z
UID:1510-1729432800-1729436400@sumidazemi.com
SUMMARY:酒器の聖地押上文庫でお酒と器の体験を
DESCRIPTION:https://sumidazemi.com/oshiagebunco-3/
URL:https://sumidazemi.com/event/oshiagebunco-3-2/
CATEGORIES:食べる
ATTACH;FMTTYPE=image/jpeg:https://sumidazemi.com/wp-content/uploads/2024/09/2024年墨田区　すみだまちゼミ-39.jpg
END:VEVENT
END:VCALENDAR