BEGIN:VCALENDAR
VERSION:2.0
PRODID:-//【得する街のゼミナール】すみだまちゼミ - ECPv6.7.0//NONSGML v1.0//EN
CALSCALE:GREGORIAN
METHOD:PUBLISH
X-WR-CALNAME:【得する街のゼミナール】すみだまちゼミ
X-ORIGINAL-URL:https://sumidazemi.com
X-WR-CALDESC:【得する街のゼミナール】すみだまちゼミ のイベント
REFRESH-INTERVAL;VALUE=DURATION:PT1H
X-Robots-Tag:noindex
X-PUBLISHED-TTL:PT1H
BEGIN:VTIMEZONE
TZID:Asia/Tokyo
BEGIN:STANDARD
TZOFFSETFROM:+0900
TZOFFSETTO:+0900
TZNAME:JST
DTSTART:20240101T000000
END:STANDARD
END:VTIMEZONE
BEGIN:VEVENT
DTSTART;TZID=Asia/Tokyo:20241026T130000
DTEND;TZID=Asia/Tokyo:20241026T140000
DTSTAMP:20260422T063937
CREATED:20241001T020325Z
LAST-MODIFIED:20241001T020325Z
UID:1677-1729947600-1729951200@sumidazemi.com
SUMMARY:投げて、蹴ってアメフト体験しませんか
DESCRIPTION:https://sumidazemi.com/gori/
URL:https://sumidazemi.com/event/gori/
CATEGORIES:体験
ATTACH;FMTTYPE=image/jpeg:https://sumidazemi.com/wp-content/uploads/2024/09/2024年墨田区　すみだまちゼミ-23.jpg
END:VEVENT
BEGIN:VEVENT
DTSTART;TZID=Asia/Tokyo:20241024T190000
DTEND;TZID=Asia/Tokyo:20241024T193000
DTSTAMP:20260422T063937
CREATED:20241001T020115Z
LAST-MODIFIED:20241007T031603Z
UID:1673-1729796400-1729798200@sumidazemi.com
SUMMARY:【満員】筋トレ初心者へのベンチプレス台使い方講座
DESCRIPTION:https://sumidazemi.com/goutoregym-2/
URL:https://sumidazemi.com/event/goutoregym-2-2/
CATEGORIES:体験
ATTACH;FMTTYPE=image/jpeg:https://sumidazemi.com/wp-content/uploads/2024/09/2024年墨田区　すみだまちゼミ-45.jpg
END:VEVENT
BEGIN:VEVENT
DTSTART;TZID=Asia/Tokyo:20241023T143000
DTEND;TZID=Asia/Tokyo:20241023T153000
DTSTAMP:20260422T063937
CREATED:20241001T022335Z
LAST-MODIFIED:20241001T022335Z
UID:1687-1729693800-1729697400@sumidazemi.com
SUMMARY:袋物博物館と革工房体験
DESCRIPTION:https://sumidazemi.com/azumaya-2/
URL:https://sumidazemi.com/event/azumaya-2-2/
CATEGORIES:体験
ATTACH;FMTTYPE=image/jpeg:https://sumidazemi.com/wp-content/uploads/2024/09/2024年墨田区　すみだまちゼミ-24.jpg
END:VEVENT
BEGIN:VEVENT
DTSTART;TZID=Asia/Tokyo:20241023T130000
DTEND;TZID=Asia/Tokyo:20241023T140000
DTSTAMP:20260422T063937
CREATED:20241001T022248Z
LAST-MODIFIED:20241001T022248Z
UID:1685-1729688400-1729692000@sumidazemi.com
SUMMARY:袋物博物館と革工房体験
DESCRIPTION:https://sumidazemi.com/azumaya-2/
URL:https://sumidazemi.com/event/azumaya-2/
CATEGORIES:体験
ATTACH;FMTTYPE=image/jpeg:https://sumidazemi.com/wp-content/uploads/2024/09/2024年墨田区　すみだまちゼミ-24.jpg
END:VEVENT
BEGIN:VEVENT
DTSTART;TZID=Asia/Tokyo:20241022T183000
DTEND;TZID=Asia/Tokyo:20241022T193000
DTSTAMP:20260422T063937
CREATED:20241001T023724Z
LAST-MODIFIED:20241001T023724Z
UID:1710-1729621800-1729625400@sumidazemi.com
SUMMARY:パラリンピック選手と話してみよう！
DESCRIPTION:https://sumidazemi.com/yorimichi-13/
URL:https://sumidazemi.com/event/yorimichi-13-2/
CATEGORIES:体験
ATTACH;FMTTYPE=image/jpeg:https://sumidazemi.com/wp-content/uploads/2024/09/2024年墨田区　すみだまちゼミ-6.jpg
END:VEVENT
BEGIN:VEVENT
DTSTART;TZID=Asia/Tokyo:20241021T193000
DTEND;TZID=Asia/Tokyo:20241021T210000
DTSTAMP:20260422T063937
CREATED:20241001T024904Z
LAST-MODIFIED:20241001T024904Z
UID:1720-1729539000-1729544400@sumidazemi.com
SUMMARY:初心者歓迎！ボードゲーム体験会
DESCRIPTION:https://sumidazemi.com/yorimichi-15/
URL:https://sumidazemi.com/event/yorimichi-15-2/
CATEGORIES:体験
ATTACH;FMTTYPE=image/jpeg:https://sumidazemi.com/wp-content/uploads/2024/09/2024年墨田区　すみだまちゼミ-9.jpg
END:VEVENT
BEGIN:VEVENT
DTSTART;TZID=Asia/Tokyo:20241020T120000
DTEND;TZID=Asia/Tokyo:20241020T130000
DTSTAMP:20260422T063937
CREATED:20241001T023230Z
LAST-MODIFIED:20241001T023230Z
UID:1702-1729425600-1729429200@sumidazemi.com
SUMMARY:蓄音機を聴いてみよう。
DESCRIPTION:https://sumidazemi.com/oshiagebunco-2/
URL:https://sumidazemi.com/event/oshiagebunco-2-3/
CATEGORIES:体験
ATTACH;FMTTYPE=image/jpeg:https://sumidazemi.com/wp-content/uploads/2024/09/2024年墨田区　すみだまちゼミ-41.jpg
END:VEVENT
BEGIN:VEVENT
DTSTART;TZID=Asia/Tokyo:20241020T100000
DTEND;TZID=Asia/Tokyo:20241020T110000
DTSTAMP:20260422T063937
CREATED:20241001T022823Z
LAST-MODIFIED:20241001T022823Z
UID:1695-1729418400-1729422000@sumidazemi.com
SUMMARY:スタインウェイピアノを弾いてみよう。
DESCRIPTION:https://sumidazemi.com/oshiagebunco/
URL:https://sumidazemi.com/event/oshiagebunco-2/
CATEGORIES:体験
ATTACH;FMTTYPE=image/jpeg:https://sumidazemi.com/wp-content/uploads/2024/09/2024年墨田区　すみだまちゼミ-40.jpg
END:VEVENT
BEGIN:VEVENT
DTSTART;TZID=Asia/Tokyo:20241019T130000
DTEND;TZID=Asia/Tokyo:20241019T170000
DTSTAMP:20260422T063937
CREATED:20241001T025436Z
LAST-MODIFIED:20241001T025436Z
UID:1730-1729342800-1729357200@sumidazemi.com
SUMMARY:着物を解いてみよう
DESCRIPTION:着物を解いてみよう
URL:https://sumidazemi.com/event/naoya-3/
CATEGORIES:体験
ATTACH;FMTTYPE=image/jpeg:https://sumidazemi.com/wp-content/uploads/2024/09/2024年墨田区　すみだまちゼミ-28.jpg
END:VEVENT
BEGIN:VEVENT
DTSTART;TZID=Asia/Tokyo:20241019T110000
DTEND;TZID=Asia/Tokyo:20241019T120000
DTSTAMP:20260422T063937
CREATED:20241001T025235Z
LAST-MODIFIED:20241001T025235Z
UID:1726-1729335600-1729339200@sumidazemi.com
SUMMARY:ペンシルパズルで遊ぼう
DESCRIPTION:https://sumidazemi.com/bunkabu-2/
URL:https://sumidazemi.com/event/bunkabu-2-2/
CATEGORIES:体験
ATTACH;FMTTYPE=image/jpeg:https://sumidazemi.com/wp-content/uploads/2024/09/2024年墨田区　すみだまちゼミ-27.jpg
END:VEVENT
BEGIN:VEVENT
DTSTART;TZID=Asia/Tokyo:20241019T100000
DTEND;TZID=Asia/Tokyo:20241019T113000
DTSTAMP:20260422T063937
CREATED:20241001T024436Z
LAST-MODIFIED:20241018T121642Z
UID:1712-1729332000-1729337400@sumidazemi.com
SUMMARY:【満員】SSIR-J 社会課題について対話する会
DESCRIPTION:https://sumidazemi.com/yorimichi-14/
URL:https://sumidazemi.com/event/yorimichi-14/
CATEGORIES:体験
ATTACH;FMTTYPE=image/jpeg:https://sumidazemi.com/wp-content/uploads/2024/09/2024年墨田区　すみだまちゼミ-4.jpg
END:VEVENT
BEGIN:VEVENT
DTSTART;TZID=Asia/Tokyo:20241017T190000
DTEND;TZID=Asia/Tokyo:20241017T193000
DTSTAMP:20260422T063937
CREATED:20241001T015926Z
LAST-MODIFIED:20241001T015926Z
UID:1671-1729191600-1729193400@sumidazemi.com
SUMMARY:筋トレ初心者へのベンチプレス台使い方講座
DESCRIPTION:https://sumidazemi.com/goutoregym-2/
URL:https://sumidazemi.com/event/goutoregym-2/
CATEGORIES:体験
ATTACH;FMTTYPE=image/jpeg:https://sumidazemi.com/wp-content/uploads/2024/09/2024年墨田区　すみだまちゼミ-45.jpg
END:VEVENT
BEGIN:VEVENT
DTSTART;TZID=Asia/Tokyo:20241015T140000
DTEND;TZID=Asia/Tokyo:20241015T150000
DTSTAMP:20260422T063937
CREATED:20241001T023137Z
LAST-MODIFIED:20241001T023137Z
UID:1700-1729000800-1729004400@sumidazemi.com
SUMMARY:蓄音機を聴いてみよう。
DESCRIPTION:https://sumidazemi.com/oshiagebunco-2/
URL:https://sumidazemi.com/event/oshiagebunco-2-2/
CATEGORIES:体験
ATTACH;FMTTYPE=image/jpeg:https://sumidazemi.com/wp-content/uploads/2024/09/2024年墨田区　すみだまちゼミ-41.jpg
END:VEVENT
BEGIN:VEVENT
DTSTART;TZID=Asia/Tokyo:20241015T120000
DTEND;TZID=Asia/Tokyo:20241015T130000
DTSTAMP:20260422T063937
CREATED:20241001T022720Z
LAST-MODIFIED:20241001T022720Z
UID:1693-1728993600-1728997200@sumidazemi.com
SUMMARY:スタインウェイピアノを弾いてみよう。
DESCRIPTION:https://sumidazemi.com/oshiagebunco/
URL:https://sumidazemi.com/event/oshiagebunco/
CATEGORIES:体験
ATTACH;FMTTYPE=image/jpeg:https://sumidazemi.com/wp-content/uploads/2024/09/2024年墨田区　すみだまちゼミ-40.jpg
END:VEVENT
BEGIN:VEVENT
DTSTART;TZID=Asia/Tokyo:20241014T100000
DTEND;TZID=Asia/Tokyo:20241014T113000
DTSTAMP:20260422T063937
CREATED:20241001T024752Z
LAST-MODIFIED:20241001T024752Z
UID:1718-1728900000-1728905400@sumidazemi.com
SUMMARY:初心者歓迎！ボードゲーム体験会
DESCRIPTION:https://sumidazemi.com/yorimichi-15/
URL:https://sumidazemi.com/event/yorimichi-15/
CATEGORIES:体験
ATTACH;FMTTYPE=image/jpeg:https://sumidazemi.com/wp-content/uploads/2024/09/2024年墨田区　すみだまちゼミ-9.jpg
END:VEVENT
BEGIN:VEVENT
DTSTART;TZID=Asia/Tokyo:20241012T130000
DTEND;TZID=Asia/Tokyo:20241012T140000
DTSTAMP:20260422T063937
CREATED:20241001T025120Z
LAST-MODIFIED:20241001T025120Z
UID:1724-1728738000-1728741600@sumidazemi.com
SUMMARY:ペンシルパズルで遊ぼう
DESCRIPTION:https://sumidazemi.com/bunkabu-2/
URL:https://sumidazemi.com/event/bunkabu-2/
CATEGORIES:体験
ATTACH;FMTTYPE=image/jpeg:https://sumidazemi.com/wp-content/uploads/2024/09/2024年墨田区　すみだまちゼミ-27.jpg
END:VEVENT
BEGIN:VEVENT
DTSTART;TZID=Asia/Tokyo:20241012T103000
DTEND;TZID=Asia/Tokyo:20241012T113000
DTSTAMP:20260422T063937
CREATED:20241001T023626Z
LAST-MODIFIED:20241001T023626Z
UID:1708-1728729000-1728732600@sumidazemi.com
SUMMARY:パラリンピック選手と話してみよう！
DESCRIPTION:https://sumidazemi.com/yorimichi-13/
URL:https://sumidazemi.com/event/yorimichi-13/
CATEGORIES:体験
ATTACH;FMTTYPE=image/jpeg:https://sumidazemi.com/wp-content/uploads/2024/09/2024年墨田区　すみだまちゼミ-6.jpg
END:VEVENT
END:VCALENDAR