BEGIN:VCALENDAR
VERSION:2.0
PRODID:-//【得する街のゼミナール】すみだまちゼミ - ECPv6.7.0//NONSGML v1.0//EN
CALSCALE:GREGORIAN
METHOD:PUBLISH
X-WR-CALNAME:【得する街のゼミナール】すみだまちゼミ
X-ORIGINAL-URL:https://sumidazemi.com
X-WR-CALDESC:【得する街のゼミナール】すみだまちゼミ のイベント
REFRESH-INTERVAL;VALUE=DURATION:PT1H
X-Robots-Tag:noindex
X-PUBLISHED-TTL:PT1H
BEGIN:VTIMEZONE
TZID:Asia/Tokyo
BEGIN:STANDARD
TZOFFSETFROM:+0900
TZOFFSETTO:+0900
TZNAME:JST
DTSTART:20250101T000000
END:STANDARD
END:VTIMEZONE
BEGIN:VEVENT
DTSTART;TZID=Asia/Tokyo:20250909T150000
DTEND;TZID=Asia/Tokyo:20250909T160000
DTSTAMP:20260423T072101
CREATED:20250714T055118Z
LAST-MODIFIED:20250714T055118Z
UID:2919-1757430000-1757433600@sumidazemi.com
SUMMARY:蓄音機を聴いてみよう。
DESCRIPTION:蓄音機を聴いてみよう。2025.7.8アナログの究極の蓄音機で押上文庫が持つ膨大なレコードの中からいろんな分野の音楽をお聴きいただきます。【押上文庫　東京都墨田区押上3-10-9】...
URL:https://sumidazemi.com/event/oshiagebunco-7/
CATEGORIES:体験
ATTACH;FMTTYPE=image/png:https://sumidazemi.com/wp-content/uploads/2025/07/28.png
END:VEVENT
BEGIN:VEVENT
DTSTART;TZID=Asia/Tokyo:20250913T193000
DTEND;TZID=Asia/Tokyo:20250913T210000
DTSTAMP:20260423T072101
CREATED:20250714T052556Z
LAST-MODIFIED:20250714T052556Z
UID:2894-1757791800-1757797200@sumidazemi.com
SUMMARY:三角折りたたみパズル
DESCRIPTION:三角折りたたみパズル2025.7.8オリジナルのパズル台紙を白線で折り畳み園児レベルから小学校各学年別に課題をクリアしてゆくパズルです。【発明家ショップトキメキ　東京都墨田区吾妻橋1-14-7】...
URL:https://sumidazemi.com/event/hirameki-6/
CATEGORIES:体験
ATTACH;FMTTYPE=image/png:https://sumidazemi.com/wp-content/uploads/2025/07/25.png
END:VEVENT
BEGIN:VEVENT
DTSTART;TZID=Asia/Tokyo:20250915T100000
DTEND;TZID=Asia/Tokyo:20250915T110000
DTSTAMP:20260423T072101
CREATED:20250714T054057Z
LAST-MODIFIED:20250714T054057Z
UID:2906-1757930400-1757934000@sumidazemi.com
SUMMARY:投げて、蹴って走っていい汗かきませんか
DESCRIPTION:投げて、蹴って走っていい汗かきませんか2025.7.8ボールを投げて、取って、走って、蹴っていい汗かいてみませんか？選手が身につけてる道具 触ってみよう！【アイレクスゴリラズ　東京都墨田区京島3-52-3】...
URL:https://sumidazemi.com/event/gorillas/
CATEGORIES:体験
ATTACH;FMTTYPE=image/png:https://sumidazemi.com/wp-content/uploads/2025/07/27.png
END:VEVENT
BEGIN:VEVENT
DTSTART;TZID=Asia/Tokyo:20250915T140000
DTEND;TZID=Asia/Tokyo:20250915T150000
DTSTAMP:20260423T072101
CREATED:20250714T054148Z
LAST-MODIFIED:20250714T054148Z
UID:2908-1757944800-1757948400@sumidazemi.com
SUMMARY:投げて、蹴って走っていい汗かきませんか
DESCRIPTION:投げて、蹴って走っていい汗かきませんか2025.7.8ボールを投げて、取って、走って、蹴っていい汗かいてみませんか？選手が身につけてる道具 触ってみよう！【アイレクスゴリラズ　東京都墨田区京島3-52-3】...
URL:https://sumidazemi.com/event/gorillas-2/
CATEGORIES:体験
ATTACH;FMTTYPE=image/png:https://sumidazemi.com/wp-content/uploads/2025/07/27.png
END:VEVENT
BEGIN:VEVENT
DTSTART;TZID=Asia/Tokyo:20250920T193000
DTEND;TZID=Asia/Tokyo:20250920T210000
DTSTAMP:20260423T072101
CREATED:20250714T052705Z
LAST-MODIFIED:20250714T052705Z
UID:2896-1758396600-1758402000@sumidazemi.com
SUMMARY:三角折りたたみパズル
DESCRIPTION:三角折りたたみパズル2025.7.8オリジナルのパズル台紙を白線で折り畳み園児レベルから小学校各学年別に課題をクリアしてゆくパズルです。【発明家ショップトキメキ　東京都墨田区吾妻橋1-14-7】...
URL:https://sumidazemi.com/event/hirameki-7/
CATEGORIES:体験
ATTACH;FMTTYPE=image/png:https://sumidazemi.com/wp-content/uploads/2025/07/25.png
END:VEVENT
BEGIN:VEVENT
DTSTART;TZID=Asia/Tokyo:20250921T120000
DTEND;TZID=Asia/Tokyo:20250921T130000
DTSTAMP:20260423T072101
CREATED:20250711T102106Z
LAST-MODIFIED:20250711T102106Z
UID:2870-1758456000-1758459600@sumidazemi.com
SUMMARY:革靴を磨いてみよう
DESCRIPTION:革靴を磨いてみよう2025.8.23革靴を長持ちさせるお手入れから光沢の出し方まで、靴磨きが楽しくなる体験をしてみませんか？【フィボナッチ紳士洋品店　 東京都墨田区墨田5-4-7】...
URL:https://sumidazemi.com/event/fibonacci-2/
CATEGORIES:体験
ATTACH;FMTTYPE=image/png:https://sumidazemi.com/wp-content/uploads/2025/07/24.png
END:VEVENT
BEGIN:VEVENT
DTSTART;TZID=Asia/Tokyo:20250923T100000
DTEND;TZID=Asia/Tokyo:20250923T110000
DTSTAMP:20260423T072101
CREATED:20250714T054306Z
LAST-MODIFIED:20250714T054306Z
UID:2910-1758621600-1758625200@sumidazemi.com
SUMMARY:投げて、蹴って走っていい汗かきませんか
DESCRIPTION:投げて、蹴って走っていい汗かきませんか2025.7.8ボールを投げて、取って、走って、蹴っていい汗かいてみませんか？選手が身につけてる道具 触ってみよう！【アイレクスゴリラズ　東京都墨田区京島3-52-3】...
URL:https://sumidazemi.com/event/gorillas-3/
CATEGORIES:体験
ATTACH;FMTTYPE=image/png:https://sumidazemi.com/wp-content/uploads/2025/07/27.png
END:VEVENT
BEGIN:VEVENT
DTSTART;TZID=Asia/Tokyo:20250923T140000
DTEND;TZID=Asia/Tokyo:20250923T150000
DTSTAMP:20260423T072101
CREATED:20250714T054355Z
LAST-MODIFIED:20250714T054355Z
UID:2912-1758636000-1758639600@sumidazemi.com
SUMMARY:投げて、蹴って走っていい汗かきませんか
DESCRIPTION:投げて、蹴って走っていい汗かきませんか2025.7.8ボールを投げて、取って、走って、蹴っていい汗かいてみませんか？選手が身につけてる道具 触ってみよう！【アイレクスゴリラズ　東京都墨田区京島3-52-3】...
URL:https://sumidazemi.com/event/gorillas-4/
CATEGORIES:体験
ATTACH;FMTTYPE=image/png:https://sumidazemi.com/wp-content/uploads/2025/07/27.png
END:VEVENT
BEGIN:VEVENT
DTSTART;TZID=Asia/Tokyo:20250927T193000
DTEND;TZID=Asia/Tokyo:20250927T210000
DTSTAMP:20260423T072101
CREATED:20250714T052804Z
LAST-MODIFIED:20250714T052804Z
UID:2898-1759001400-1759006800@sumidazemi.com
SUMMARY:三角折りたたみパズル
DESCRIPTION:三角折りたたみパズル2025.7.8オリジナルのパズル台紙を白線で折り畳み園児レベルから小学校各学年別に課題をクリアしてゆくパズルです。【発明家ショップトキメキ　東京都墨田区吾妻橋1-14-7】...
URL:https://sumidazemi.com/event/hirameki-8/
CATEGORIES:体験
ATTACH;FMTTYPE=image/png:https://sumidazemi.com/wp-content/uploads/2025/07/25.png
END:VEVENT
END:VCALENDAR