BEGIN:VCALENDAR
VERSION:2.0
PRODID:-//【得する街のゼミナール】すみだまちゼミ - ECPv6.7.0//NONSGML v1.0//EN
CALSCALE:GREGORIAN
METHOD:PUBLISH
X-ORIGINAL-URL:https://sumidazemi.com
X-WR-CALDESC:【得する街のゼミナール】すみだまちゼミ のイベント
REFRESH-INTERVAL;VALUE=DURATION:PT1H
X-Robots-Tag:noindex
X-PUBLISHED-TTL:PT1H
BEGIN:VTIMEZONE
TZID:Asia/Tokyo
BEGIN:STANDARD
TZOFFSETFROM:+0900
TZOFFSETTO:+0900
TZNAME:JST
DTSTART:20240101T000000
END:STANDARD
END:VTIMEZONE
BEGIN:VEVENT
DTSTART;TZID=Asia/Tokyo:20241017T190000
DTEND;TZID=Asia/Tokyo:20241017T193000
DTSTAMP:20260422T175026
CREATED:20241001T015926Z
LAST-MODIFIED:20241001T015926Z
UID:1671-1729191600-1729193400@sumidazemi.com
SUMMARY:筋トレ初心者へのベンチプレス台使い方講座
DESCRIPTION:https://sumidazemi.com/goutoregym-2/
URL:https://sumidazemi.com/event/goutoregym-2/
CATEGORIES:体験
ATTACH;FMTTYPE=image/jpeg:https://sumidazemi.com/wp-content/uploads/2024/09/2024年墨田区　すみだまちゼミ-45.jpg
END:VEVENT
END:VCALENDAR