BEGIN:VCALENDAR
VERSION:2.0
PRODID:-//【得する街のゼミナール】すみだまちゼミ - ECPv6.7.0//NONSGML v1.0//EN
CALSCALE:GREGORIAN
METHOD:PUBLISH
X-ORIGINAL-URL:https://sumidazemi.com
X-WR-CALDESC:【得する街のゼミナール】すみだまちゼミ のイベント
REFRESH-INTERVAL;VALUE=DURATION:PT1H
X-Robots-Tag:noindex
X-PUBLISHED-TTL:PT1H
BEGIN:VTIMEZONE
TZID:Asia/Tokyo
BEGIN:STANDARD
TZOFFSETFROM:+0900
TZOFFSETTO:+0900
TZNAME:JST
DTSTART:20240101T000000
END:STANDARD
END:VTIMEZONE
BEGIN:VEVENT
DTSTART;TZID=Asia/Tokyo:20241019T100000
DTEND;TZID=Asia/Tokyo:20241019T113000
DTSTAMP:20260422T175107
CREATED:20241001T024436Z
LAST-MODIFIED:20241018T121642Z
UID:1712-1729332000-1729337400@sumidazemi.com
SUMMARY:【満員】SSIR-J 社会課題について対話する会
DESCRIPTION:https://sumidazemi.com/yorimichi-14/
URL:https://sumidazemi.com/event/yorimichi-14/
CATEGORIES:体験
ATTACH;FMTTYPE=image/jpeg:https://sumidazemi.com/wp-content/uploads/2024/09/2024年墨田区　すみだまちゼミ-4.jpg
END:VEVENT
BEGIN:VEVENT
DTSTART;TZID=Asia/Tokyo:20241019T110000
DTEND;TZID=Asia/Tokyo:20241019T120000
DTSTAMP:20260422T175107
CREATED:20241001T025235Z
LAST-MODIFIED:20241001T025235Z
UID:1726-1729335600-1729339200@sumidazemi.com
SUMMARY:ペンシルパズルで遊ぼう
DESCRIPTION:https://sumidazemi.com/bunkabu-2/
URL:https://sumidazemi.com/event/bunkabu-2-2/
CATEGORIES:体験
ATTACH;FMTTYPE=image/jpeg:https://sumidazemi.com/wp-content/uploads/2024/09/2024年墨田区　すみだまちゼミ-27.jpg
END:VEVENT
BEGIN:VEVENT
DTSTART;TZID=Asia/Tokyo:20241019T130000
DTEND;TZID=Asia/Tokyo:20241019T170000
DTSTAMP:20260422T175107
CREATED:20241001T025436Z
LAST-MODIFIED:20241001T025436Z
UID:1730-1729342800-1729357200@sumidazemi.com
SUMMARY:着物を解いてみよう
DESCRIPTION:https://sumidazemi.com/naoya-3/
URL:https://sumidazemi.com/event/naoya-3/
CATEGORIES:体験
ATTACH;FMTTYPE=image/jpeg:https://sumidazemi.com/wp-content/uploads/2024/09/2024年墨田区　すみだまちゼミ-28.jpg
END:VEVENT
END:VCALENDAR