BEGIN:VCALENDAR
VERSION:2.0
PRODID:-//【得する街のゼミナール】すみだまちゼミ - ECPv6.7.0//NONSGML v1.0//EN
CALSCALE:GREGORIAN
METHOD:PUBLISH
X-WR-CALNAME:【得する街のゼミナール】すみだまちゼミ
X-ORIGINAL-URL:https://sumidazemi.com
X-WR-CALDESC:【得する街のゼミナール】すみだまちゼミ のイベント
REFRESH-INTERVAL;VALUE=DURATION:PT1H
X-Robots-Tag:noindex
X-PUBLISHED-TTL:PT1H
BEGIN:VTIMEZONE
TZID:Asia/Tokyo
BEGIN:STANDARD
TZOFFSETFROM:+0900
TZOFFSETTO:+0900
TZNAME:JST
DTSTART:20240101T000000
END:STANDARD
END:VTIMEZONE
BEGIN:VEVENT
DTSTART;TZID=Asia/Tokyo:20241023T130000
DTEND;TZID=Asia/Tokyo:20241023T140000
DTSTAMP:20260422T174930
CREATED:20241001T022248Z
LAST-MODIFIED:20241001T022248Z
UID:1685-1729688400-1729692000@sumidazemi.com
SUMMARY:袋物博物館と革工房体験
DESCRIPTION:https://sumidazemi.com/azumaya-2/
URL:https://sumidazemi.com/event/azumaya-2/
CATEGORIES:体験
ATTACH;FMTTYPE=image/jpeg:https://sumidazemi.com/wp-content/uploads/2024/09/2024年墨田区　すみだまちゼミ-24.jpg
END:VEVENT
BEGIN:VEVENT
DTSTART;TZID=Asia/Tokyo:20241023T143000
DTEND;TZID=Asia/Tokyo:20241023T153000
DTSTAMP:20260422T174930
CREATED:20241001T022335Z
LAST-MODIFIED:20241001T022335Z
UID:1687-1729693800-1729697400@sumidazemi.com
SUMMARY:袋物博物館と革工房体験
DESCRIPTION:https://sumidazemi.com/azumaya-2/
URL:https://sumidazemi.com/event/azumaya-2-2/
CATEGORIES:体験
ATTACH;FMTTYPE=image/jpeg:https://sumidazemi.com/wp-content/uploads/2024/09/2024年墨田区　すみだまちゼミ-24.jpg
END:VEVENT
END:VCALENDAR