BEGIN:VCALENDAR
VERSION:2.0
PRODID:-//【得する街のゼミナール】すみだまちゼミ - ECPv6.7.0//NONSGML v1.0//EN
CALSCALE:GREGORIAN
METHOD:PUBLISH
X-WR-CALNAME:【得する街のゼミナール】すみだまちゼミ
X-ORIGINAL-URL:https://sumidazemi.com
X-WR-CALDESC:【得する街のゼミナール】すみだまちゼミ のイベント
REFRESH-INTERVAL;VALUE=DURATION:PT1H
X-Robots-Tag:noindex
X-PUBLISHED-TTL:PT1H
BEGIN:VTIMEZONE
TZID:Asia/Tokyo
BEGIN:STANDARD
TZOFFSETFROM:+0900
TZOFFSETTO:+0900
TZNAME:JST
DTSTART:20240101T000000
END:STANDARD
END:VTIMEZONE
BEGIN:VEVENT
DTSTART;TZID=Asia/Tokyo:20241104T130000
DTEND;TZID=Asia/Tokyo:20241104T140000
DTSTAMP:20260422T160645
CREATED:20241001T020515Z
LAST-MODIFIED:20241001T020515Z
UID:1681-1730725200-1730728800@sumidazemi.com
SUMMARY:投げて、蹴ってアメフト体験しませんか
DESCRIPTION:https://sumidazemi.com/gori/
URL:https://sumidazemi.com/event/gori-3/
CATEGORIES:体験
ATTACH;FMTTYPE=image/jpeg:https://sumidazemi.com/wp-content/uploads/2024/09/2024年墨田区　すみだまちゼミ-23.jpg
END:VEVENT
BEGIN:VEVENT
DTSTART;TZID=Asia/Tokyo:20241104T143000
DTEND;TZID=Asia/Tokyo:20241104T153000
DTSTAMP:20260422T160645
CREATED:20241001T020605Z
LAST-MODIFIED:20241001T020605Z
UID:1683-1730730600-1730734200@sumidazemi.com
SUMMARY:投げて、蹴ってアメフト体験しませんか
DESCRIPTION:https://sumidazemi.com/gori/
URL:https://sumidazemi.com/event/gori-4/
CATEGORIES:体験
ATTACH;FMTTYPE=image/jpeg:https://sumidazemi.com/wp-content/uploads/2024/09/2024年墨田区　すみだまちゼミ-23.jpg
END:VEVENT
END:VCALENDAR