BEGIN:VCALENDAR
VERSION:2.0
PRODID:-//【得する街のゼミナール】すみだまちゼミ - ECPv6.7.0//NONSGML v1.0//EN
CALSCALE:GREGORIAN
METHOD:PUBLISH
X-WR-CALNAME:【得する街のゼミナール】すみだまちゼミ
X-ORIGINAL-URL:https://sumidazemi.com
X-WR-CALDESC:【得する街のゼミナール】すみだまちゼミ のイベント
REFRESH-INTERVAL;VALUE=DURATION:PT1H
X-Robots-Tag:noindex
X-PUBLISHED-TTL:PT1H
BEGIN:VTIMEZONE
TZID:Asia/Tokyo
BEGIN:STANDARD
TZOFFSETFROM:+0900
TZOFFSETTO:+0900
TZNAME:JST
DTSTART:20250101T000000
END:STANDARD
END:VTIMEZONE
BEGIN:VEVENT
DTSTART;TZID=Asia/Tokyo:20250817T100000
DTEND;TZID=Asia/Tokyo:20250817T113000
DTSTAMP:20260422T011922
CREATED:20250714T053411Z
LAST-MODIFIED:20250714T053411Z
UID:2900-1755424800-1755430200@sumidazemi.com
SUMMARY:初心者・家族参加歓迎！ボードゲーム体験会
DESCRIPTION:初心者・家族参加歓迎！ボードゲーム体験会2025.7.8ワークショップや読書会など、目的に合わせた「対話の場」づくりについて一緒に考えてみましょう！【よりみち自由室　東京都墨田区押上2-28-3】...
URL:https://sumidazemi.com/event/yorimichi-8/
CATEGORIES:体験
ATTACH;FMTTYPE=image/png:https://sumidazemi.com/wp-content/uploads/2025/07/26.png
END:VEVENT
BEGIN:VEVENT
DTSTART;TZID=Asia/Tokyo:20250817T130000
DTEND;TZID=Asia/Tokyo:20250817T140000
DTSTAMP:20260422T011922
CREATED:20250714T051544Z
LAST-MODIFIED:20250714T051544Z
UID:2883-1755435600-1755439200@sumidazemi.com
SUMMARY:三角折りたたみパズル
DESCRIPTION:三角折りたたみパズル2025.7.8オリジナルのパズル台紙を白線で折り畳み園児レベルから小学校各学年別に課題をクリアしてゆくパズルです。【発明家ショップトキメキ　東京都墨田区吾妻橋1-14-7】...
URL:https://sumidazemi.com/event/hirameki/
CATEGORIES:体験
ATTACH;FMTTYPE=image/png:https://sumidazemi.com/wp-content/uploads/2025/07/25.png
END:VEVENT
BEGIN:VEVENT
DTSTART;TZID=Asia/Tokyo:20250817T133000
DTEND;TZID=Asia/Tokyo:20250817T143000
DTSTAMP:20260422T011922
CREATED:20250711T101650Z
LAST-MODIFIED:20250711T102232Z
UID:2860-1755437400-1755441000@sumidazemi.com
SUMMARY:楽しい新日本舞踊
DESCRIPTION:楽しい新日本舞踊2025.8.31敷居が高いと思われる日本舞踊を身近に！着物じゃなくて、カジュアルな服装で、体験できる新日本舞踊。初めての方でも、楽しく学べる、優しいレッスンです。【新日本舞踊 松若流 家元 松若瑞...
URL:https://sumidazemi.com/event/buyou/
CATEGORIES:体験
ATTACH;FMTTYPE=image/png:https://sumidazemi.com/wp-content/uploads/2025/07/23.png
END:VEVENT
BEGIN:VEVENT
DTSTART;TZID=Asia/Tokyo:20250817T140000
DTEND;TZID=Asia/Tokyo:20250817T160000
DTSTAMP:20260422T011922
CREATED:20250714T051725Z
LAST-MODIFIED:20250714T051725Z
UID:2885-1755439200-1755446400@sumidazemi.com
SUMMARY:三角折りたたみパズル
DESCRIPTION:三角折りたたみパズル2025.7.8オリジナルのパズル台紙を白線で折り畳み園児レベルから小学校各学年別に課題をクリアしてゆくパズルです。【発明家ショップトキメキ　東京都墨田区吾妻橋1-14-7】...
URL:https://sumidazemi.com/event/hirameki-2/
CATEGORIES:体験
ATTACH;FMTTYPE=image/png:https://sumidazemi.com/wp-content/uploads/2025/07/25.png
END:VEVENT
BEGIN:VEVENT
DTSTART;TZID=Asia/Tokyo:20250817T150000
DTEND;TZID=Asia/Tokyo:20250817T160000
DTSTAMP:20260422T011922
CREATED:20250711T101734Z
LAST-MODIFIED:20250711T102217Z
UID:2862-1755442800-1755446400@sumidazemi.com
SUMMARY:楽しい新日本舞踊
DESCRIPTION:楽しい新日本舞踊2025.8.31敷居が高いと思われる日本舞踊を身近に！着物じゃなくて、カジュアルな服装で、体験できる新日本舞踊。初めての方でも、楽しく学べる、優しいレッスンです。【新日本舞踊 松若流 家元 松若瑞...
URL:https://sumidazemi.com/event/buyou-2/
CATEGORIES:体験
ATTACH;FMTTYPE=image/png:https://sumidazemi.com/wp-content/uploads/2025/07/23.png
END:VEVENT
END:VCALENDAR