BEGIN:VCALENDAR
VERSION:2.0
PRODID:-//【得する街のゼミナール】すみだまちゼミ - ECPv6.7.0//NONSGML v1.0//EN
CALSCALE:GREGORIAN
METHOD:PUBLISH
X-WR-CALNAME:【得する街のゼミナール】すみだまちゼミ
X-ORIGINAL-URL:https://sumidazemi.com
X-WR-CALDESC:【得する街のゼミナール】すみだまちゼミ のイベント
REFRESH-INTERVAL;VALUE=DURATION:PT1H
X-Robots-Tag:noindex
X-PUBLISHED-TTL:PT1H
BEGIN:VTIMEZONE
TZID:Asia/Tokyo
BEGIN:STANDARD
TZOFFSETFROM:+0900
TZOFFSETTO:+0900
TZNAME:JST
DTSTART:20250101T000000
END:STANDARD
END:VTIMEZONE
BEGIN:VEVENT
DTSTART;TZID=Asia/Tokyo:20250920T193000
DTEND;TZID=Asia/Tokyo:20250920T210000
DTSTAMP:20260421T233017
CREATED:20250714T052705Z
LAST-MODIFIED:20250714T052705Z
UID:2896-1758396600-1758402000@sumidazemi.com
SUMMARY:三角折りたたみパズル
DESCRIPTION:三角折りたたみパズル2025.7.8オリジナルのパズル台紙を白線で折り畳み園児レベルから小学校各学年別に課題をクリアしてゆくパズルです。【発明家ショップトキメキ　東京都墨田区吾妻橋1-14-7】...
URL:https://sumidazemi.com/event/hirameki-7/
CATEGORIES:体験
ATTACH;FMTTYPE=image/png:https://sumidazemi.com/wp-content/uploads/2025/07/25.png
END:VEVENT
END:VCALENDAR