BEGIN:VCALENDAR
VERSION:2.0
PRODID:-//【得する街のゼミナール】すみだまちゼミ - ECPv6.7.0//NONSGML v1.0//EN
CALSCALE:GREGORIAN
METHOD:PUBLISH
X-WR-CALNAME:【得する街のゼミナール】すみだまちゼミ
X-ORIGINAL-URL:https://sumidazemi.com
X-WR-CALDESC:【得する街のゼミナール】すみだまちゼミ のイベント
REFRESH-INTERVAL;VALUE=DURATION:PT1H
X-Robots-Tag:noindex
X-PUBLISHED-TTL:PT1H
BEGIN:VTIMEZONE
TZID:Asia/Tokyo
BEGIN:STANDARD
TZOFFSETFROM:+0900
TZOFFSETTO:+0900
TZNAME:JST
DTSTART:20250101T000000
END:STANDARD
END:VTIMEZONE
BEGIN:VEVENT
DTSTART;TZID=Asia/Tokyo:20250921T120000
DTEND;TZID=Asia/Tokyo:20250921T130000
DTSTAMP:20260421T232935
CREATED:20250711T102106Z
LAST-MODIFIED:20250711T102106Z
UID:2870-1758456000-1758459600@sumidazemi.com
SUMMARY:革靴を磨いてみよう
DESCRIPTION:革靴を磨いてみよう2025.8.23革靴を長持ちさせるお手入れから光沢の出し方まで、靴磨きが楽しくなる体験をしてみませんか？【フィボナッチ紳士洋品店　 東京都墨田区墨田5-4-7】...
URL:https://sumidazemi.com/event/fibonacci-2/
CATEGORIES:体験
ATTACH;FMTTYPE=image/png:https://sumidazemi.com/wp-content/uploads/2025/07/24.png
END:VEVENT
END:VCALENDAR