BEGIN:VCALENDAR
VERSION:2.0
PRODID:-//【得する街のゼミナール】すみだまちゼミ - ECPv6.7.0//NONSGML v1.0//EN
CALSCALE:GREGORIAN
METHOD:PUBLISH
X-WR-CALNAME:【得する街のゼミナール】すみだまちゼミ
X-ORIGINAL-URL:https://sumidazemi.com
X-WR-CALDESC:【得する街のゼミナール】すみだまちゼミ のイベント
REFRESH-INTERVAL;VALUE=DURATION:PT1H
X-Robots-Tag:noindex
X-PUBLISHED-TTL:PT1H
BEGIN:VTIMEZONE
TZID:Asia/Tokyo
BEGIN:STANDARD
TZOFFSETFROM:+0900
TZOFFSETTO:+0900
TZNAME:JST
DTSTART:20250101T000000
END:STANDARD
END:VTIMEZONE
BEGIN:VEVENT
DTSTART;TZID=Asia/Tokyo:20250923T100000
DTEND;TZID=Asia/Tokyo:20250923T110000
DTSTAMP:20260421T233017
CREATED:20250714T054306Z
LAST-MODIFIED:20250714T054306Z
UID:2910-1758621600-1758625200@sumidazemi.com
SUMMARY:投げて、蹴って走っていい汗かきませんか
DESCRIPTION:投げて、蹴って走っていい汗かきませんか2025.7.8ボールを投げて、取って、走って、蹴っていい汗かいてみませんか？選手が身につけてる道具 触ってみよう！【アイレクスゴリラズ　東京都墨田区京島3-52-3】...
URL:https://sumidazemi.com/event/gorillas-3/
CATEGORIES:体験
ATTACH;FMTTYPE=image/png:https://sumidazemi.com/wp-content/uploads/2025/07/27.png
END:VEVENT
BEGIN:VEVENT
DTSTART;TZID=Asia/Tokyo:20250923T140000
DTEND;TZID=Asia/Tokyo:20250923T150000
DTSTAMP:20260421T233017
CREATED:20250714T054355Z
LAST-MODIFIED:20250714T054355Z
UID:2912-1758636000-1758639600@sumidazemi.com
SUMMARY:投げて、蹴って走っていい汗かきませんか
DESCRIPTION:投げて、蹴って走っていい汗かきませんか2025.7.8ボールを投げて、取って、走って、蹴っていい汗かいてみませんか？選手が身につけてる道具 触ってみよう！【アイレクスゴリラズ　東京都墨田区京島3-52-3】...
URL:https://sumidazemi.com/event/gorillas-4/
CATEGORIES:体験
ATTACH;FMTTYPE=image/png:https://sumidazemi.com/wp-content/uploads/2025/07/27.png
END:VEVENT
END:VCALENDAR