BEGIN:VCALENDAR
VERSION:2.0
PRODID:-//【得する街のゼミナール】すみだまちゼミ - ECPv6.7.0//NONSGML v1.0//EN
CALSCALE:GREGORIAN
METHOD:PUBLISH
X-ORIGINAL-URL:https://sumidazemi.com
X-WR-CALDESC:【得する街のゼミナール】すみだまちゼミ のイベント
REFRESH-INTERVAL;VALUE=DURATION:PT1H
X-Robots-Tag:noindex
X-PUBLISHED-TTL:PT1H
BEGIN:VTIMEZONE
TZID:Asia/Tokyo
BEGIN:STANDARD
TZOFFSETFROM:+0900
TZOFFSETTO:+0900
TZNAME:JST
DTSTART:20240101T000000
END:STANDARD
END:VTIMEZONE
BEGIN:VEVENT
DTSTART;TZID=Asia/Tokyo:20241101T140000
DTEND;TZID=Asia/Tokyo:20241101T150000
DTSTAMP:20260422T142031
CREATED:20241001T025339Z
LAST-MODIFIED:20241001T025339Z
UID:1728-1730469600-1730473200@sumidazemi.com
SUMMARY:ペンシルパズルで遊ぼう
DESCRIPTION:https://sumidazemi.com/bunkabu-2/
URL:https://sumidazemi.com/event/bunkabu-2-3/
CATEGORIES:体験
ATTACH;FMTTYPE=image/jpeg:https://sumidazemi.com/wp-content/uploads/2024/09/2024年墨田区　すみだまちゼミ-27.jpg
END:VEVENT
BEGIN:VEVENT
DTSTART;TZID=Asia/Tokyo:20241101T190000
DTEND;TZID=Asia/Tokyo:20241101T193000
DTSTAMP:20260422T142031
CREATED:20241001T020206Z
LAST-MODIFIED:20241001T020206Z
UID:1675-1730487600-1730489400@sumidazemi.com
SUMMARY:筋トレ初心者へのベンチプレス台使い方講座
DESCRIPTION:https://sumidazemi.com/goutoregym-2/
URL:https://sumidazemi.com/event/goutoregym-2-3/
CATEGORIES:体験
ATTACH;FMTTYPE=image/jpeg:https://sumidazemi.com/wp-content/uploads/2024/09/2024年墨田区　すみだまちゼミ-45.jpg
END:VEVENT
BEGIN:VEVENT
DTSTART;TZID=Asia/Tokyo:20241102T130000
DTEND;TZID=Asia/Tokyo:20241102T150000
DTSTAMP:20260422T142031
CREATED:20241001T015812Z
LAST-MODIFIED:20241009T021246Z
UID:1669-1730552400-1730559600@sumidazemi.com
SUMMARY:【満員】うんと古い本の修復を体験する
DESCRIPTION:https://sumidazemi.com/le-petit-parisien/
URL:https://sumidazemi.com/event/le-petit-parisien-2/
CATEGORIES:体験
ATTACH;FMTTYPE=image/jpeg:https://sumidazemi.com/wp-content/uploads/2024/09/2024年墨田区　すみだまちゼミ-22.jpg
END:VEVENT
BEGIN:VEVENT
DTSTART;TZID=Asia/Tokyo:20241103T110000
DTEND;TZID=Asia/Tokyo:20241103T120000
DTSTAMP:20260422T142031
CREATED:20241001T022923Z
LAST-MODIFIED:20241001T022923Z
UID:1697-1730631600-1730635200@sumidazemi.com
SUMMARY:スタインウェイピアノを弾いてみよう。
DESCRIPTION:https://sumidazemi.com/oshiagebunco/
URL:https://sumidazemi.com/event/oshiagebunco-4/
CATEGORIES:体験
ATTACH;FMTTYPE=image/jpeg:https://sumidazemi.com/wp-content/uploads/2024/09/2024年墨田区　すみだまちゼミ-40.jpg
END:VEVENT
BEGIN:VEVENT
DTSTART;TZID=Asia/Tokyo:20241103T130000
DTEND;TZID=Asia/Tokyo:20241103T140000
DTSTAMP:20260422T142031
CREATED:20241001T023336Z
LAST-MODIFIED:20241001T023336Z
UID:1704-1730638800-1730642400@sumidazemi.com
SUMMARY:蓄音機を聴いてみよう。
DESCRIPTION:https://sumidazemi.com/oshiagebunco-2/
URL:https://sumidazemi.com/event/oshiagebunco-2-4/
CATEGORIES:体験
ATTACH;FMTTYPE=image/jpeg:https://sumidazemi.com/wp-content/uploads/2024/09/2024年墨田区　すみだまちゼミ-41.jpg
END:VEVENT
BEGIN:VEVENT
DTSTART;TZID=Asia/Tokyo:20241103T130000
DTEND;TZID=Asia/Tokyo:20241103T143000
DTSTAMP:20260422T142031
CREATED:20241001T023454Z
LAST-MODIFIED:20241015T020738Z
UID:1706-1730638800-1730644200@sumidazemi.com
SUMMARY:【満員】ボードゲーム体験
DESCRIPTION:https://sumidazemi.com/bodotore-2/
URL:https://sumidazemi.com/event/bodotore-2/
CATEGORIES:体験
ATTACH;FMTTYPE=image/jpeg:https://sumidazemi.com/wp-content/uploads/2024/09/2024年墨田区　すみだまちゼミ-25.jpg
END:VEVENT
BEGIN:VEVENT
DTSTART;TZID=Asia/Tokyo:20241104T130000
DTEND;TZID=Asia/Tokyo:20241104T140000
DTSTAMP:20260422T142031
CREATED:20241001T020515Z
LAST-MODIFIED:20241001T020515Z
UID:1681-1730725200-1730728800@sumidazemi.com
SUMMARY:投げて、蹴ってアメフト体験しませんか
DESCRIPTION:https://sumidazemi.com/gori/
URL:https://sumidazemi.com/event/gori-3/
CATEGORIES:体験
ATTACH;FMTTYPE=image/jpeg:https://sumidazemi.com/wp-content/uploads/2024/09/2024年墨田区　すみだまちゼミ-23.jpg
END:VEVENT
BEGIN:VEVENT
DTSTART;TZID=Asia/Tokyo:20241104T143000
DTEND;TZID=Asia/Tokyo:20241104T153000
DTSTAMP:20260422T142031
CREATED:20241001T020605Z
LAST-MODIFIED:20241001T020605Z
UID:1683-1730730600-1730734200@sumidazemi.com
SUMMARY:投げて、蹴ってアメフト体験しませんか
DESCRIPTION:https://sumidazemi.com/gori/
URL:https://sumidazemi.com/event/gori-4/
CATEGORIES:体験
ATTACH;FMTTYPE=image/jpeg:https://sumidazemi.com/wp-content/uploads/2024/09/2024年墨田区　すみだまちゼミ-23.jpg
END:VEVENT
BEGIN:VEVENT
DTSTART;TZID=Asia/Tokyo:20241106T130000
DTEND;TZID=Asia/Tokyo:20241106T140000
DTSTAMP:20260422T142031
CREATED:20241001T022453Z
LAST-MODIFIED:20241001T022453Z
UID:1689-1730898000-1730901600@sumidazemi.com
SUMMARY:袋物博物館と革工房体験
DESCRIPTION:https://sumidazemi.com/azumaya-2/
URL:https://sumidazemi.com/event/azumaya-2-3/
CATEGORIES:体験
ATTACH;FMTTYPE=image/jpeg:https://sumidazemi.com/wp-content/uploads/2024/09/2024年墨田区　すみだまちゼミ-24.jpg
END:VEVENT
BEGIN:VEVENT
DTSTART;TZID=Asia/Tokyo:20241106T143000
DTEND;TZID=Asia/Tokyo:20241106T153000
DTSTAMP:20260422T142031
CREATED:20241001T022552Z
LAST-MODIFIED:20241001T022552Z
UID:1691-1730903400-1730907000@sumidazemi.com
SUMMARY:袋物博物館と革工房体験
DESCRIPTION:https://sumidazemi.com/azumaya-2/
URL:https://sumidazemi.com/event/azumaya-2-4/
CATEGORIES:体験
ATTACH;FMTTYPE=image/jpeg:https://sumidazemi.com/wp-content/uploads/2024/09/2024年墨田区　すみだまちゼミ-24.jpg
END:VEVENT
BEGIN:VEVENT
DTSTART;TZID=Asia/Tokyo:20241107T193000
DTEND;TZID=Asia/Tokyo:20241107T210000
DTSTAMP:20260422T142031
CREATED:20241001T024651Z
LAST-MODIFIED:20241007T151458Z
UID:1716-1731007800-1731013200@sumidazemi.com
SUMMARY:【満員】SSIR-J 社会課題について対話する会
DESCRIPTION:https://sumidazemi.com/yorimichi-14/
URL:https://sumidazemi.com/event/yorimichi-14-3/
CATEGORIES:体験
ATTACH;FMTTYPE=image/jpeg:https://sumidazemi.com/wp-content/uploads/2024/09/2024年墨田区　すみだまちゼミ-4.jpg
END:VEVENT
BEGIN:VEVENT
DTSTART;TZID=Asia/Tokyo:20241109T130000
DTEND;TZID=Asia/Tokyo:20241109T170000
DTSTAMP:20260422T142031
CREATED:20241001T025532Z
LAST-MODIFIED:20241027T050958Z
UID:1732-1731157200-1731171600@sumidazemi.com
SUMMARY:【満員】着物を解いてみよう
DESCRIPTION:https://sumidazemi.com/naoya-3/
URL:https://sumidazemi.com/event/naoya-3-2/
CATEGORIES:体験
ATTACH;FMTTYPE=image/jpeg:https://sumidazemi.com/wp-content/uploads/2024/09/2024年墨田区　すみだまちゼミ-28.jpg
END:VEVENT
END:VCALENDAR