BEGIN:VCALENDAR
VERSION:2.0
PRODID:-//【得する街のゼミナール】すみだまちゼミ - ECPv6.7.0//NONSGML v1.0//EN
CALSCALE:GREGORIAN
METHOD:PUBLISH
X-WR-CALNAME:【得する街のゼミナール】すみだまちゼミ
X-ORIGINAL-URL:https://sumidazemi.com
X-WR-CALDESC:【得する街のゼミナール】すみだまちゼミ のイベント
REFRESH-INTERVAL;VALUE=DURATION:PT1H
X-Robots-Tag:noindex
X-PUBLISHED-TTL:PT1H
BEGIN:VTIMEZONE
TZID:Asia/Tokyo
BEGIN:STANDARD
TZOFFSETFROM:+0900
TZOFFSETTO:+0900
TZNAME:JST
DTSTART:20240101T000000
END:STANDARD
END:VTIMEZONE
BEGIN:VEVENT
DTSTART;TZID=Asia/Tokyo:20241105T193000
DTEND;TZID=Asia/Tokyo:20241105T210000
DTSTAMP:20260421T124614
CREATED:20241001T012500Z
LAST-MODIFIED:20241001T012500Z
UID:1612-1730835000-1730840400@sumidazemi.com
SUMMARY:小さな居場所のつくり方
DESCRIPTION:https://sumidazemi.com/yorimichi-11/
URL:https://sumidazemi.com/event/yorimichi-11-3/
CATEGORIES:学ぶ
ATTACH;FMTTYPE=image/jpeg:https://sumidazemi.com/wp-content/uploads/2024/09/2024年墨田区　すみだまちゼミ-5.jpg
END:VEVENT
BEGIN:VEVENT
DTSTART;TZID=Asia/Tokyo:20241103T110000
DTEND;TZID=Asia/Tokyo:20241103T120000
DTSTAMP:20260421T124614
CREATED:20241001T013037Z
LAST-MODIFIED:20241001T013037Z
UID:1620-1730631600-1730635200@sumidazemi.com
SUMMARY:墨田区に喫茶店・カフェが多い訳　～すみだ喫茶天国
DESCRIPTION:https://sumidazemi.com/visitsumida/
URL:https://sumidazemi.com/event/visitsumida-2/
CATEGORIES:学ぶ
ATTACH;FMTTYPE=image/jpeg:https://sumidazemi.com/wp-content/uploads/2024/09/2024年墨田区　すみだまちゼミ-15.jpg
END:VEVENT
BEGIN:VEVENT
DTSTART;TZID=Asia/Tokyo:20241102T140000
DTEND;TZID=Asia/Tokyo:20241102T150000
DTSTAMP:20260421T124614
CREATED:20241001T014304Z
LAST-MODIFIED:20241001T014304Z
UID:1643-1730556000-1730559600@sumidazemi.com
SUMMARY:発見！すみだの魅力あれこれ
DESCRIPTION:https://sumidazemi.com/visit-sumida-14/
URL:https://sumidazemi.com/event/visit-sumida-14/
CATEGORIES:学ぶ
ATTACH;FMTTYPE=image/jpeg:https://sumidazemi.com/wp-content/uploads/2024/09/2024年墨田区　すみだまちゼミ-13.jpg
END:VEVENT
BEGIN:VEVENT
DTSTART;TZID=Asia/Tokyo:20241102T110000
DTEND;TZID=Asia/Tokyo:20241102T120000
DTSTAMP:20260421T124614
CREATED:20241001T010949Z
LAST-MODIFIED:20241001T010949Z
UID:1588-1730545200-1730548800@sumidazemi.com
SUMMARY:プログラミング教室
DESCRIPTION:https://sumidazemi.com/daiichi/
URL:https://sumidazemi.com/event/daiichi-2/
CATEGORIES:学ぶ
ATTACH;FMTTYPE=image/jpeg:https://sumidazemi.com/wp-content/uploads/2024/09/2024年墨田区　すみだまちゼミ-48.jpg
END:VEVENT
BEGIN:VEVENT
DTSTART;TZID=Asia/Tokyo:20241102T100000
DTEND;TZID=Asia/Tokyo:20241102T110000
DTSTAMP:20260421T124614
CREATED:20241001T013721Z
LAST-MODIFIED:20241001T013721Z
UID:1633-1730541600-1730545200@sumidazemi.com
SUMMARY:向島を描いた北斎とライバルたち
DESCRIPTION:https://sumidazemi.com/visit-sumida-11/
URL:https://sumidazemi.com/event/visit-sumida-11-2/
CATEGORIES:学ぶ
ATTACH;FMTTYPE=image/jpeg:https://sumidazemi.com/wp-content/uploads/2024/09/2024年墨田区　すみだまちゼミ-19.jpg
END:VEVENT
BEGIN:VEVENT
DTSTART;TZID=Asia/Tokyo:20241102T100000
DTEND;TZID=Asia/Tokyo:20241102T110000
DTSTAMP:20260421T124614
CREATED:20241001T011853Z
LAST-MODIFIED:20241001T011853Z
UID:1602-1730541600-1730545200@sumidazemi.com
SUMMARY:地域活動の始め方
DESCRIPTION:https://sumidazemi.com/yorimichi-9/
URL:https://sumidazemi.com/event/yorimichi-9-2/
CATEGORIES:学ぶ
ATTACH;FMTTYPE=image/jpeg:https://sumidazemi.com/wp-content/uploads/2024/09/2024年墨田区　すみだまちゼミ-5.jpg
END:VEVENT
BEGIN:VEVENT
DTSTART;TZID=Asia/Tokyo:20241031T193000
DTEND;TZID=Asia/Tokyo:20241031T210000
DTSTAMP:20260421T124614
CREATED:20241001T012359Z
LAST-MODIFIED:20241001T012359Z
UID:1610-1730403000-1730408400@sumidazemi.com
SUMMARY:小さな居場所のつくり方
DESCRIPTION:https://sumidazemi.com/yorimichi-11/
URL:https://sumidazemi.com/event/yorimichi-11-2/
CATEGORIES:学ぶ
ATTACH;FMTTYPE=image/jpeg:https://sumidazemi.com/wp-content/uploads/2024/09/2024年墨田区　すみだまちゼミ-5.jpg
END:VEVENT
BEGIN:VEVENT
DTSTART;TZID=Asia/Tokyo:20241031T190000
DTEND;TZID=Asia/Tokyo:20241031T200000
DTSTAMP:20260421T124614
CREATED:20241001T011344Z
LAST-MODIFIED:20241001T011344Z
UID:1594-1730401200-1730404800@sumidazemi.com
SUMMARY:NISA素人が3年で知った事を伝えます！
DESCRIPTION:https://sumidazemi.com/nekozuki/
URL:https://sumidazemi.com/event/nekozuki-3/
CATEGORIES:学ぶ
ATTACH;FMTTYPE=image/jpeg:https://sumidazemi.com/wp-content/uploads/2024/09/2024年墨田区　すみだまちゼミ-1.jpg
END:VEVENT
BEGIN:VEVENT
DTSTART;TZID=Asia/Tokyo:20241031T140000
DTEND;TZID=Asia/Tokyo:20241031T150000
DTSTAMP:20260421T124614
CREATED:20241001T010543Z
LAST-MODIFIED:20241001T010608Z
UID:1581-1730383200-1730386800@sumidazemi.com
SUMMARY:知らないと損？ふたつの"そうぞく"
DESCRIPTION:https://sumidazemi.com/meijiyasuda-5/
URL:https://sumidazemi.com/event/meijiyasuda-5-2/
CATEGORIES:学ぶ
ATTACH;FMTTYPE=image/jpeg:https://sumidazemi.com/wp-content/uploads/2024/09/2024年墨田区　すみだまちゼミ-47.jpg
END:VEVENT
BEGIN:VEVENT
DTSTART;TZID=Asia/Tokyo:20241031T130000
DTEND;TZID=Asia/Tokyo:20241031T133000
DTSTAMP:20260421T124614
CREATED:20241001T002725Z
LAST-MODIFIED:20241001T002725Z
UID:1577-1730379600-1730381400@sumidazemi.com
SUMMARY:モヤモヤをすっきり、夫婦問題を相談しよう
DESCRIPTION:https://sumidazemi.com/mochiie-rikon/
URL:https://sumidazemi.com/event/mochiie-rikon-11/
CATEGORIES:学ぶ
ATTACH;FMTTYPE=image/jpeg:https://sumidazemi.com/wp-content/uploads/2024/09/2024年墨田区　すみだまちゼミ-52.jpg
END:VEVENT
BEGIN:VEVENT
DTSTART;TZID=Asia/Tokyo:20241031T120000
DTEND;TZID=Asia/Tokyo:20241031T123000
DTSTAMP:20260421T124614
CREATED:20241001T002604Z
LAST-MODIFIED:20241001T002604Z
UID:1575-1730376000-1730377800@sumidazemi.com
SUMMARY:モヤモヤをすっきり、夫婦問題を相談しよう
DESCRIPTION:https://sumidazemi.com/mochiie-rikon/
URL:https://sumidazemi.com/event/mochiie-rikon-10/
CATEGORIES:学ぶ
ATTACH;FMTTYPE=image/jpeg:https://sumidazemi.com/wp-content/uploads/2024/09/2024年墨田区　すみだまちゼミ-52.jpg
END:VEVENT
BEGIN:VEVENT
DTSTART;TZID=Asia/Tokyo:20241031T110000
DTEND;TZID=Asia/Tokyo:20241031T113000
DTSTAMP:20260421T124614
CREATED:20241001T002443Z
LAST-MODIFIED:20241001T002443Z
UID:1573-1730372400-1730374200@sumidazemi.com
SUMMARY:モヤモヤをすっきり、夫婦問題を相談しよう
DESCRIPTION:https://sumidazemi.com/mochiie-rikon/
URL:https://sumidazemi.com/event/mochiie-rikon-9/
CATEGORIES:学ぶ
ATTACH;FMTTYPE=image/jpeg:https://sumidazemi.com/wp-content/uploads/2024/09/2024年墨田区　すみだまちゼミ-52.jpg
END:VEVENT
BEGIN:VEVENT
DTSTART;TZID=Asia/Tokyo:20241027T160000
DTEND;TZID=Asia/Tokyo:20241027T170000
DTSTAMP:20260421T124614
CREATED:20241001T013410Z
LAST-MODIFIED:20241001T013410Z
UID:1626-1730044800-1730048400@sumidazemi.com
SUMMARY:英語ですみだを紹介しよう！
DESCRIPTION:https://sumidazemi.com/visit-sumida-10/
URL:https://sumidazemi.com/event/visit-sumida-10/
CATEGORIES:学ぶ
ATTACH;FMTTYPE=image/jpeg:https://sumidazemi.com/wp-content/uploads/2024/09/2024年墨田区　すみだまちゼミ-18.jpg
END:VEVENT
BEGIN:VEVENT
DTSTART;TZID=Asia/Tokyo:20241027T140000
DTEND;TZID=Asia/Tokyo:20241027T150000
DTSTAMP:20260421T124614
CREATED:20241001T012943Z
LAST-MODIFIED:20241001T012943Z
UID:1618-1730037600-1730041200@sumidazemi.com
SUMMARY:墨田区に喫茶店・カフェが多い訳　～すみだ喫茶天国
DESCRIPTION:https://sumidazemi.com/visitsumida/
URL:https://sumidazemi.com/event/visitsumida/
CATEGORIES:学ぶ
ATTACH;FMTTYPE=image/jpeg:https://sumidazemi.com/wp-content/uploads/2024/09/2024年墨田区　すみだまちゼミ-15.jpg
END:VEVENT
BEGIN:VEVENT
DTSTART;TZID=Asia/Tokyo:20241027T110000
DTEND;TZID=Asia/Tokyo:20241027T120000
DTSTAMP:20260421T124614
CREATED:20241001T013157Z
LAST-MODIFIED:20241001T013157Z
UID:1622-1730026800-1730030400@sumidazemi.com
SUMMARY:知ってますか！忠臣蔵
DESCRIPTION:https://sumidazemi.com/visit-sumida-9/
URL:https://sumidazemi.com/event/visit-sumida-9/
CATEGORIES:学ぶ
ATTACH;FMTTYPE=image/jpeg:https://sumidazemi.com/wp-content/uploads/2024/09/2024年墨田区　すみだまちゼミ-14.jpg
END:VEVENT
BEGIN:VEVENT
DTSTART;TZID=Asia/Tokyo:20241026T160000
DTEND;TZID=Asia/Tokyo:20241026T170000
DTSTAMP:20260421T124614
CREATED:20241001T013837Z
LAST-MODIFIED:20241001T013837Z
UID:1635-1729958400-1729962000@sumidazemi.com
SUMMARY:相撲の街両国の紹介と国技館相撲観戦ガイド
DESCRIPTION:https://sumidazemi.com/visit-sumida-12/
URL:https://sumidazemi.com/event/visit-sumida-12/
CATEGORIES:学ぶ
ATTACH;FMTTYPE=image/jpeg:https://sumidazemi.com/wp-content/uploads/2024/09/2024年墨田区　すみだまちゼミ-17.jpg
END:VEVENT
BEGIN:VEVENT
DTSTART;TZID=Asia/Tokyo:20241026T140000
DTEND;TZID=Asia/Tokyo:20241026T150000
DTSTAMP:20260421T124614
CREATED:20241001T014058Z
LAST-MODIFIED:20241001T014058Z
UID:1639-1729951200-1729954800@sumidazemi.com
SUMMARY:隅田川七福神めぐり～福を呼ぶまち歩き～
DESCRIPTION:https://sumidazemi.com/visit-sumida-13/
URL:https://sumidazemi.com/event/visit-sumida-13/
CATEGORIES:学ぶ
ATTACH;FMTTYPE=image/jpeg:https://sumidazemi.com/wp-content/uploads/2024/09/2024年墨田区　すみだまちゼミ-16.jpg
END:VEVENT
BEGIN:VEVENT
DTSTART;TZID=Asia/Tokyo:20241026T120000
DTEND;TZID=Asia/Tokyo:20241026T124500
DTSTAMP:20260421T124614
CREATED:20241001T015017Z
LAST-MODIFIED:20241001T015017Z
UID:1657-1729944000-1729946700@sumidazemi.com
SUMMARY:これ何の形？名前の漢字のルーツを探ろう！
DESCRIPTION:https://sumidazemi.com/kbd/
URL:https://sumidazemi.com/event/kbd-6/
CATEGORIES:学ぶ
ATTACH;FMTTYPE=image/jpeg:https://sumidazemi.com/wp-content/uploads/2024/09/2024年墨田区　すみだまちゼミ-20.jpg
END:VEVENT
BEGIN:VEVENT
DTSTART;TZID=Asia/Tokyo:20241026T110000
DTEND;TZID=Asia/Tokyo:20241026T120000
DTSTAMP:20260421T124614
CREATED:20241001T013626Z
LAST-MODIFIED:20241001T013626Z
UID:1631-1729940400-1729944000@sumidazemi.com
SUMMARY:向島を描いた北斎とライバルたち
DESCRIPTION:https://sumidazemi.com/visit-sumida-11/
URL:https://sumidazemi.com/event/visit-sumida-11/
CATEGORIES:学ぶ
ATTACH;FMTTYPE=image/jpeg:https://sumidazemi.com/wp-content/uploads/2024/09/2024年墨田区　すみだまちゼミ-19.jpg
END:VEVENT
BEGIN:VEVENT
DTSTART;TZID=Asia/Tokyo:20241026T110000
DTEND;TZID=Asia/Tokyo:20241026T114500
DTSTAMP:20260421T124614
CREATED:20241001T014922Z
LAST-MODIFIED:20241001T014922Z
UID:1655-1729940400-1729943100@sumidazemi.com
SUMMARY:これ何の形？名前の漢字のルーツを探ろう！
DESCRIPTION:https://sumidazemi.com/kbd/
URL:https://sumidazemi.com/event/kbd-5/
CATEGORIES:学ぶ
ATTACH;FMTTYPE=image/jpeg:https://sumidazemi.com/wp-content/uploads/2024/09/2024年墨田区　すみだまちゼミ-20.jpg
END:VEVENT
BEGIN:VEVENT
DTSTART;TZID=Asia/Tokyo:20241026T100000
DTEND;TZID=Asia/Tokyo:20241026T104500
DTSTAMP:20260421T124614
CREATED:20241001T014822Z
LAST-MODIFIED:20241001T014822Z
UID:1653-1729936800-1729939500@sumidazemi.com
SUMMARY:これ何の形？名前の漢字のルーツを探ろう！
DESCRIPTION:https://sumidazemi.com/kbd/
URL:https://sumidazemi.com/event/kbd-4/
CATEGORIES:学ぶ
ATTACH;FMTTYPE=image/jpeg:https://sumidazemi.com/wp-content/uploads/2024/09/2024年墨田区　すみだまちゼミ-20.jpg
END:VEVENT
BEGIN:VEVENT
DTSTART;TZID=Asia/Tokyo:20241024T190000
DTEND;TZID=Asia/Tokyo:20241024T200000
DTSTAMP:20260421T124614
CREATED:20241001T011228Z
LAST-MODIFIED:20241001T011228Z
UID:1592-1729796400-1729800000@sumidazemi.com
SUMMARY:NISA素人が3年で知った事を伝えます！
DESCRIPTION:https://sumidazemi.com/nekozuki/
URL:https://sumidazemi.com/event/nekozuki-2/
CATEGORIES:学ぶ
ATTACH;FMTTYPE=image/jpeg:https://sumidazemi.com/wp-content/uploads/2024/09/2024年墨田区　すみだまちゼミ-1.jpg
END:VEVENT
BEGIN:VEVENT
DTSTART;TZID=Asia/Tokyo:20241020T100000
DTEND;TZID=Asia/Tokyo:20241020T113000
DTSTAMP:20260421T124614
CREATED:20241001T012008Z
LAST-MODIFIED:20241018T121733Z
UID:1604-1729418400-1729423800@sumidazemi.com
SUMMARY:【満員】地域コミュニティのつくり方
DESCRIPTION:https://sumidazemi.com/yorimichi-10/
URL:https://sumidazemi.com/event/yorimichi-10/
CATEGORIES:学ぶ
ATTACH;FMTTYPE=image/jpeg:https://sumidazemi.com/wp-content/uploads/2024/09/2024年墨田区　すみだまちゼミ-11.jpg
END:VEVENT
BEGIN:VEVENT
DTSTART;TZID=Asia/Tokyo:20241019T170000
DTEND;TZID=Asia/Tokyo:20241019T173000
DTSTAMP:20260421T124614
CREATED:20241001T001758Z
LAST-MODIFIED:20241010T021519Z
UID:1563-1729357200-1729359000@sumidazemi.com
SUMMARY:【満員】モヤモヤをすっきり、夫婦問題を相談しよう
DESCRIPTION:https://sumidazemi.com/mochiie-rikon/
URL:https://sumidazemi.com/event/mochiie-rikon-4/
CATEGORIES:学ぶ
ATTACH;FMTTYPE=image/jpeg:https://sumidazemi.com/wp-content/uploads/2024/09/2024年墨田区　すみだまちゼミ-52.jpg
END:VEVENT
BEGIN:VEVENT
DTSTART;TZID=Asia/Tokyo:20241019T163000
DTEND;TZID=Asia/Tokyo:20241019T173000
DTSTAMP:20260421T124614
CREATED:20241001T010449Z
LAST-MODIFIED:20241018T064749Z
UID:1579-1729355400-1729359000@sumidazemi.com
SUMMARY:【中止】知らないと損？ふたつの"そうぞく"
DESCRIPTION:https://sumidazemi.com/meijiyasuda-5/
URL:https://sumidazemi.com/event/meijiyasuda-5/
CATEGORIES:学ぶ
ATTACH;FMTTYPE=image/jpeg:https://sumidazemi.com/wp-content/uploads/2024/09/2024年墨田区　すみだまちゼミ-47.jpg
END:VEVENT
BEGIN:VEVENT
DTSTART;TZID=Asia/Tokyo:20241019T160000
DTEND;TZID=Asia/Tokyo:20241019T163000
DTSTAMP:20260421T124614
CREATED:20241001T001640Z
LAST-MODIFIED:20241010T021533Z
UID:1560-1729353600-1729355400@sumidazemi.com
SUMMARY:【満員】モヤモヤをすっきり、夫婦問題を相談しよう
DESCRIPTION:https://sumidazemi.com/mochiie-rikon/
URL:https://sumidazemi.com/event/mochiie-rikon-3/
CATEGORIES:学ぶ
ATTACH;FMTTYPE=image/jpeg:https://sumidazemi.com/wp-content/uploads/2024/09/2024年墨田区　すみだまちゼミ-52.jpg
END:VEVENT
BEGIN:VEVENT
DTSTART;TZID=Asia/Tokyo:20241019T120000
DTEND;TZID=Asia/Tokyo:20241019T123000
DTSTAMP:20260421T124614
CREATED:20241001T001538Z
LAST-MODIFIED:20241018T064818Z
UID:1558-1729339200-1729341000@sumidazemi.com
SUMMARY:【中止】モヤモヤをすっきり、夫婦問題を相談しよう
DESCRIPTION:https://sumidazemi.com/mochiie-rikon/
URL:https://sumidazemi.com/event/mochiie-rikon-2/
CATEGORIES:学ぶ
ATTACH;FMTTYPE=image/jpeg:https://sumidazemi.com/wp-content/uploads/2024/09/2024年墨田区　すみだまちゼミ-52.jpg
END:VEVENT
BEGIN:VEVENT
DTSTART;TZID=Asia/Tokyo:20241019T110000
DTEND;TZID=Asia/Tokyo:20241019T113000
DTSTAMP:20260421T124614
CREATED:20241001T001437Z
LAST-MODIFIED:20241010T021458Z
UID:1556-1729335600-1729337400@sumidazemi.com
SUMMARY:【満員】モヤモヤをすっきり、夫婦問題を相談しよう
DESCRIPTION:https://sumidazemi.com/mochiie-rikon/
URL:https://sumidazemi.com/event/mochiie-rikon/
CATEGORIES:学ぶ
ATTACH;FMTTYPE=image/jpeg:https://sumidazemi.com/wp-content/uploads/2024/09/2024年墨田区　すみだまちゼミ-52.jpg
END:VEVENT
BEGIN:VEVENT
DTSTART;TZID=Asia/Tokyo:20241017T193000
DTEND;TZID=Asia/Tokyo:20241017T210000
DTSTAMP:20260421T124614
CREATED:20241001T012743Z
LAST-MODIFIED:20241001T012743Z
UID:1616-1729193400-1729198800@sumidazemi.com
SUMMARY:ボードゲームで学ぶ脱走猫対策
DESCRIPTION:https://sumidazemi.com/yorimichi-12/
URL:https://sumidazemi.com/event/yorimichi-12-2/
CATEGORIES:学ぶ
ATTACH;FMTTYPE=image/jpeg:https://sumidazemi.com/wp-content/uploads/2024/09/2024年墨田区　すみだまちゼミ-8.jpg
END:VEVENT
BEGIN:VEVENT
DTSTART;TZID=Asia/Tokyo:20241017T190000
DTEND;TZID=Asia/Tokyo:20241017T200000
DTSTAMP:20260421T124614
CREATED:20241001T011107Z
LAST-MODIFIED:20241001T011107Z
UID:1590-1729191600-1729195200@sumidazemi.com
SUMMARY:NISA素人が3年で知った事を伝えます！
DESCRIPTION:https://sumidazemi.com/nekozuki/
URL:https://sumidazemi.com/event/nekozuki/
CATEGORIES:学ぶ
ATTACH;FMTTYPE=image/jpeg:https://sumidazemi.com/wp-content/uploads/2024/09/2024年墨田区　すみだまちゼミ-1.jpg
END:VEVENT
END:VCALENDAR