BEGIN:VCALENDAR
VERSION:2.0
PRODID:-//【得する街のゼミナール】すみだまちゼミ - ECPv6.7.0//NONSGML v1.0//EN
CALSCALE:GREGORIAN
METHOD:PUBLISH
X-WR-CALNAME:【得する街のゼミナール】すみだまちゼミ
X-ORIGINAL-URL:https://sumidazemi.com
X-WR-CALDESC:【得する街のゼミナール】すみだまちゼミ のイベント
REFRESH-INTERVAL;VALUE=DURATION:PT1H
X-Robots-Tag:noindex
X-PUBLISHED-TTL:PT1H
BEGIN:VTIMEZONE
TZID:Asia/Tokyo
BEGIN:STANDARD
TZOFFSETFROM:+0900
TZOFFSETTO:+0900
TZNAME:JST
DTSTART:20240101T000000
END:STANDARD
END:VTIMEZONE
BEGIN:VEVENT
DTSTART;TZID=Asia/Tokyo:20250823T140000
DTEND;TZID=Asia/Tokyo:20250823T150000
DTSTAMP:20260421T105127
CREATED:20250709T031708Z
LAST-MODIFIED:20250709T031708Z
UID:2774-1755957600-1755961200@sumidazemi.com
SUMMARY:これ何の形？名前の漢字のルーツを探ろう！2025
DESCRIPTION:これ何の形？名前の漢字のルーツを探ろう！20252025.7.8自分の名前の漢字は、古代文字だったらどんな形かな？ハンコヤが使う重～い字典で調べて書いてみよう！【慶文堂 　東京都墨田1-14-23】...
URL:https://sumidazemi.com/event/kdd/
CATEGORIES:学ぶ
ATTACH;FMTTYPE=image/png:https://sumidazemi.com/wp-content/uploads/2025/07/10.png
END:VEVENT
BEGIN:VEVENT
DTSTART;TZID=Asia/Tokyo:20250821T190000
DTEND;TZID=Asia/Tokyo:20250821T203000
DTSTAMP:20260421T105127
CREATED:20250711T071028Z
LAST-MODIFIED:20250711T071028Z
UID:2808-1755802800-1755808200@sumidazemi.com
SUMMARY:被災に備える勉強会2025
DESCRIPTION:被災に備える勉強会20252025.8.11すみだで被災を想定したら何が必要？生き残った後の生活は？わかりやすくリアルに解説していきます。【厚焼きホットケーキのお店「ねこづき」 　東京都墨田区太平3-14-2】...
URL:https://sumidazemi.com/event/nekozuki-5/
CATEGORIES:学ぶ
ATTACH;FMTTYPE=image/png:https://sumidazemi.com/wp-content/uploads/2025/07/13.png
END:VEVENT
BEGIN:VEVENT
DTSTART;TZID=Asia/Tokyo:20250820T193000
DTEND;TZID=Asia/Tokyo:20250820T210000
DTSTAMP:20260421T105127
CREATED:20250709T033253Z
LAST-MODIFIED:20250709T033253Z
UID:2786-1755718200-1755723600@sumidazemi.com
SUMMARY:名刺は分身！印象に残る名刺とは？
DESCRIPTION:名刺は分身！印象に残る名刺とは？2025.8.19はじめての方も安心！名刺の歴史やデザインの基本、印象に残る名刺の作り方を解説します。【有限会社エースプリント　東京都墨田区太平2-16-11　千葉ビル１F】...
URL:https://sumidazemi.com/event/aceprint/
CATEGORIES:学ぶ
ATTACH;FMTTYPE=image/png:https://sumidazemi.com/wp-content/uploads/2025/07/11.png
END:VEVENT
BEGIN:VEVENT
DTSTART;TZID=Asia/Tokyo:20250818T130000
DTEND;TZID=Asia/Tokyo:20250818T140000
DTSTAMP:20260421T105127
CREATED:20250711T080250Z
LAST-MODIFIED:20250711T080250Z
UID:2818-1755522000-1755525600@sumidazemi.com
SUMMARY:【初級】誰でも簡単ChatGPT活用講座
DESCRIPTION:【初級】誰でも簡単ChatGPT活用講座2025.7.8内容 ChatGPTの基本操作から日常や仕事での活用法までを丁寧に解説。 講師 福田慎也 日時 日付時間空き8/18 月13:00～14:00〇8/25 月13:00～14:00〇...
URL:https://sumidazemi.com/event/creativepocket/
CATEGORIES:学ぶ
ATTACH;FMTTYPE=image/png:https://sumidazemi.com/wp-content/uploads/2025/07/16.png
END:VEVENT
BEGIN:VEVENT
DTSTART;TZID=Asia/Tokyo:20250817T190000
DTEND;TZID=Asia/Tokyo:20250817T203000
DTSTAMP:20260421T105127
CREATED:20250711T070926Z
LAST-MODIFIED:20250711T071158Z
UID:2806-1755457200-1755462600@sumidazemi.com
SUMMARY:被災に備える勉強会2025
DESCRIPTION:被災に備える勉強会20252025.8.11すみだで被災を想定したら何が必要？生き残った後の生活は？わかりやすくリアルに解説していきます。【厚焼きホットケーキのお店「ねこづき」 　東京都墨田区太平3-14-2】...
URL:https://sumidazemi.com/event/nekozuki-4/
CATEGORIES:学ぶ
ATTACH;FMTTYPE=image/png:https://sumidazemi.com/wp-content/uploads/2025/07/13.png
END:VEVENT
BEGIN:VEVENT
DTSTART;TZID=Asia/Tokyo:20250816T193000
DTEND;TZID=Asia/Tokyo:20250816T203000
DTSTAMP:20260421T105127
CREATED:20250711T090043Z
LAST-MODIFIED:20250711T090043Z
UID:2826-1755372600-1755376200@sumidazemi.com
SUMMARY:【20代女性限定】転職・キャリア相談会
DESCRIPTION:【20代女性限定】転職・キャリア相談会2025.8.29「キャリア×人生×私～未来戦略Lab～」ビジョンの描き方、恋愛、就活なんでも気軽に相談OK！【ANGEL PATRONAGE　 東京都墨田区両国2-18-4】...
URL:https://sumidazemi.com/event/angel-patronage-2/
CATEGORIES:学ぶ
ATTACH;FMTTYPE=image/png:https://sumidazemi.com/wp-content/uploads/2025/07/17.png
END:VEVENT
BEGIN:VEVENT
DTSTART;TZID=Asia/Tokyo:20250816T173000
DTEND;TZID=Asia/Tokyo:20250816T183000
DTSTAMP:20260421T105127
CREATED:20250711T085723Z
LAST-MODIFIED:20250711T085723Z
UID:2824-1755365400-1755369000@sumidazemi.com
SUMMARY:【20代女性限定】転職・キャリア相談会
DESCRIPTION:【20代女性限定】転職・キャリア相談会2025.8.29「キャリア×人生×私～未来戦略Lab～」ビジョンの描き方、恋愛、就活なんでも気軽に相談OK！【ANGEL PATRONAGE　 東京都墨田区両国2-18-4】...
URL:https://sumidazemi.com/event/angel-patronage/
CATEGORIES:学ぶ
ATTACH;FMTTYPE=image/png:https://sumidazemi.com/wp-content/uploads/2025/07/17.png
END:VEVENT
BEGIN:VEVENT
DTSTART;TZID=Asia/Tokyo:20250816T140000
DTEND;TZID=Asia/Tokyo:20250816T150000
DTSTAMP:20260421T105127
CREATED:20250709T031615Z
LAST-MODIFIED:20250709T031615Z
UID:2772-1755352800-1755356400@sumidazemi.com
SUMMARY:これ何の形？名前の漢字のルーツを探ろう！2025
DESCRIPTION:これ何の形？名前の漢字のルーツを探ろう！20252025.7.8自分の名前の漢字は、古代文字だったらどんな形かな？ハンコヤが使う重～い字典で調べて書いてみよう！【慶文堂 　東京都墨田1-14-23】...
URL:https://sumidazemi.com/event/kbd-10/
CATEGORIES:学ぶ
ATTACH;FMTTYPE=image/png:https://sumidazemi.com/wp-content/uploads/2025/07/10.png
END:VEVENT
BEGIN:VEVENT
DTSTART;TZID=Asia/Tokyo:20241110T110000
DTEND;TZID=Asia/Tokyo:20241110T120000
DTSTAMP:20260421T105127
CREATED:20241001T013934Z
LAST-MODIFIED:20241009T035922Z
UID:1637-1731236400-1731240000@sumidazemi.com
SUMMARY:【満員】相撲の街両国の紹介と国技館相撲観戦ガイド
DESCRIPTION:https://sumidazemi.com/visit-sumida-12/
URL:https://sumidazemi.com/event/visit-sumida-12-2/
CATEGORIES:学ぶ
ATTACH;FMTTYPE=image/jpeg:https://sumidazemi.com/wp-content/uploads/2024/09/2024年墨田区　すみだまちゼミ-17.jpg
END:VEVENT
BEGIN:VEVENT
DTSTART;TZID=Asia/Tokyo:20241110T020000
DTEND;TZID=Asia/Tokyo:20241110T150000
DTSTAMP:20260421T105127
CREATED:20241001T013506Z
LAST-MODIFIED:20241028T011553Z
UID:1628-1731204000-1731250800@sumidazemi.com
SUMMARY:【満員】英語ですみだを紹介しよう！
DESCRIPTION:https://sumidazemi.com/visit-sumida-10/
URL:https://sumidazemi.com/event/visit-sumida-10-2/
CATEGORIES:学ぶ
ATTACH;FMTTYPE=image/jpeg:https://sumidazemi.com/wp-content/uploads/2024/09/2024年墨田区　すみだまちゼミ-18.jpg
END:VEVENT
BEGIN:VEVENT
DTSTART;TZID=Asia/Tokyo:20241109T170000
DTEND;TZID=Asia/Tokyo:20241109T173000
DTSTAMP:20260421T105127
CREATED:20241001T002319Z
LAST-MODIFIED:20241001T002319Z
UID:1571-1731171600-1731173400@sumidazemi.com
SUMMARY:モヤモヤをすっきり、夫婦問題を相談しよう
DESCRIPTION:https://sumidazemi.com/mochiie-rikon/
URL:https://sumidazemi.com/event/mochiie-rikon-8/
CATEGORIES:学ぶ
ATTACH;FMTTYPE=image/jpeg:https://sumidazemi.com/wp-content/uploads/2024/09/2024年墨田区　すみだまちゼミ-52.jpg
END:VEVENT
BEGIN:VEVENT
DTSTART;TZID=Asia/Tokyo:20241109T160000
DTEND;TZID=Asia/Tokyo:20241109T170000
DTSTAMP:20260421T105127
CREATED:20241001T014357Z
LAST-MODIFIED:20241001T014357Z
UID:1645-1731168000-1731171600@sumidazemi.com
SUMMARY:発見！すみだの魅力あれこれ
DESCRIPTION:https://sumidazemi.com/visit-sumida-14/
URL:https://sumidazemi.com/event/visit-sumida-14-2/
CATEGORIES:学ぶ
ATTACH;FMTTYPE=image/jpeg:https://sumidazemi.com/wp-content/uploads/2024/09/2024年墨田区　すみだまちゼミ-13.jpg
END:VEVENT
BEGIN:VEVENT
DTSTART;TZID=Asia/Tokyo:20241109T160000
DTEND;TZID=Asia/Tokyo:20241109T163000
DTSTAMP:20260421T105127
CREATED:20241001T002232Z
LAST-MODIFIED:20241017T005112Z
UID:1569-1731168000-1731169800@sumidazemi.com
SUMMARY:【満員】モヤモヤをすっきり、夫婦問題を相談しよう
DESCRIPTION:https://sumidazemi.com/mochiie-rikon/
URL:https://sumidazemi.com/event/mochiie-rikon-7/
CATEGORIES:学ぶ
ATTACH;FMTTYPE=image/jpeg:https://sumidazemi.com/wp-content/uploads/2024/09/2024年墨田区　すみだまちゼミ-52.jpg
END:VEVENT
BEGIN:VEVENT
DTSTART;TZID=Asia/Tokyo:20241109T140000
DTEND;TZID=Asia/Tokyo:20241109T150000
DTSTAMP:20260421T105127
CREATED:20241001T013256Z
LAST-MODIFIED:20241001T013256Z
UID:1624-1731160800-1731164400@sumidazemi.com
SUMMARY:知ってますか！忠臣蔵
DESCRIPTION:https://sumidazemi.com/visit-sumida-9/
URL:https://sumidazemi.com/event/visit-sumida-9-2/
CATEGORIES:学ぶ
ATTACH;FMTTYPE=image/jpeg:https://sumidazemi.com/wp-content/uploads/2024/09/2024年墨田区　すみだまちゼミ-14.jpg
END:VEVENT
BEGIN:VEVENT
DTSTART;TZID=Asia/Tokyo:20241109T130000
DTEND;TZID=Asia/Tokyo:20241109T140000
DTSTAMP:20260421T105127
CREATED:20241001T015529Z
LAST-MODIFIED:20241001T015529Z
UID:1665-1731157200-1731160800@sumidazemi.com
SUMMARY:誰でもできる！パンツの丈つめ編
DESCRIPTION:https://sumidazemi.com/wnpenguin-5/
URL:https://sumidazemi.com/event/wnpenguin-5/
CATEGORIES:学ぶ
ATTACH;FMTTYPE=image/jpeg:https://sumidazemi.com/wp-content/uploads/2024/09/2024年墨田区　すみだまちゼミ-21.jpg
END:VEVENT
BEGIN:VEVENT
DTSTART;TZID=Asia/Tokyo:20241109T120000
DTEND;TZID=Asia/Tokyo:20241109T124500
DTSTAMP:20260421T105127
CREATED:20241001T015408Z
LAST-MODIFIED:20241001T015408Z
UID:1663-1731153600-1731156300@sumidazemi.com
SUMMARY:これ何の形？名前の漢字のルーツを探ろう！
DESCRIPTION:https://sumidazemi.com/kbd/
URL:https://sumidazemi.com/event/kbd-9/
CATEGORIES:学ぶ
ATTACH;FMTTYPE=image/jpeg:https://sumidazemi.com/wp-content/uploads/2024/09/2024年墨田区　すみだまちゼミ-20.jpg
END:VEVENT
BEGIN:VEVENT
DTSTART;TZID=Asia/Tokyo:20241109T120000
DTEND;TZID=Asia/Tokyo:20241109T123000
DTSTAMP:20260421T105127
CREATED:20241001T002124Z
LAST-MODIFIED:20241001T002124Z
UID:1567-1731153600-1731155400@sumidazemi.com
SUMMARY:モヤモヤをすっきり、夫婦問題を相談しよう
DESCRIPTION:https://sumidazemi.com/mochiie-rikon/
URL:https://sumidazemi.com/event/mochiie-rikon-6/
CATEGORIES:学ぶ
ATTACH;FMTTYPE=image/jpeg:https://sumidazemi.com/wp-content/uploads/2024/09/2024年墨田区　すみだまちゼミ-52.jpg
END:VEVENT
BEGIN:VEVENT
DTSTART;TZID=Asia/Tokyo:20241109T110000
DTEND;TZID=Asia/Tokyo:20241109T120000
DTSTAMP:20260421T105127
CREATED:20241001T014158Z
LAST-MODIFIED:20241001T014158Z
UID:1641-1731150000-1731153600@sumidazemi.com
SUMMARY:隅田川七福神めぐり～福を呼ぶまち歩き～
DESCRIPTION:https://sumidazemi.com/visit-sumida-13/
URL:https://sumidazemi.com/event/visit-sumida-13-2/
CATEGORIES:学ぶ
ATTACH;FMTTYPE=image/jpeg:https://sumidazemi.com/wp-content/uploads/2024/09/2024年墨田区　すみだまちゼミ-16.jpg
END:VEVENT
BEGIN:VEVENT
DTSTART;TZID=Asia/Tokyo:20241109T110000
DTEND;TZID=Asia/Tokyo:20241109T120000
DTSTAMP:20260421T105127
CREATED:20241001T010721Z
LAST-MODIFIED:20241001T010721Z
UID:1584-1731150000-1731153600@sumidazemi.com
SUMMARY:知らないと損？ふたつの"そうぞく"
DESCRIPTION:https://sumidazemi.com/meijiyasuda-5/
URL:https://sumidazemi.com/event/meijiyasuda-5-3/
CATEGORIES:学ぶ
ATTACH;FMTTYPE=image/jpeg:https://sumidazemi.com/wp-content/uploads/2024/09/2024年墨田区　すみだまちゼミ-47.jpg
END:VEVENT
BEGIN:VEVENT
DTSTART;TZID=Asia/Tokyo:20241109T110000
DTEND;TZID=Asia/Tokyo:20241109T114500
DTSTAMP:20260421T105127
CREATED:20241001T015250Z
LAST-MODIFIED:20241001T015250Z
UID:1661-1731150000-1731152700@sumidazemi.com
SUMMARY:これ何の形？名前の漢字のルーツを探ろう！
DESCRIPTION:https://sumidazemi.com/kbd/
URL:https://sumidazemi.com/event/kbd-8/
CATEGORIES:学ぶ
ATTACH;FMTTYPE=image/jpeg:https://sumidazemi.com/wp-content/uploads/2024/09/2024年墨田区　すみだまちゼミ-20.jpg
END:VEVENT
BEGIN:VEVENT
DTSTART;TZID=Asia/Tokyo:20241109T110000
DTEND;TZID=Asia/Tokyo:20241109T113000
DTSTAMP:20260421T105127
CREATED:20241001T001915Z
LAST-MODIFIED:20241001T001915Z
UID:1565-1731150000-1731151800@sumidazemi.com
SUMMARY:モヤモヤをすっきり、夫婦問題を相談しよう
DESCRIPTION:https://sumidazemi.com/mochiie-rikon/
URL:https://sumidazemi.com/event/mochiie-rikon-5/
CATEGORIES:学ぶ
ATTACH;FMTTYPE=image/jpeg:https://sumidazemi.com/wp-content/uploads/2024/09/2024年墨田区　すみだまちゼミ-52.jpg
END:VEVENT
BEGIN:VEVENT
DTSTART;TZID=Asia/Tokyo:20241109T100000
DTEND;TZID=Asia/Tokyo:20241109T104500
DTSTAMP:20260421T105127
CREATED:20241001T015156Z
LAST-MODIFIED:20241001T015156Z
UID:1659-1731146400-1731149100@sumidazemi.com
SUMMARY:これ何の形？名前の漢字のルーツを探ろう！
DESCRIPTION:https://sumidazemi.com/kbd/
URL:https://sumidazemi.com/event/kbd-7/
CATEGORIES:学ぶ
ATTACH;FMTTYPE=image/jpeg:https://sumidazemi.com/wp-content/uploads/2024/09/2024年墨田区　すみだまちゼミ-20.jpg
END:VEVENT
BEGIN:VEVENT
DTSTART;TZID=Asia/Tokyo:20241107T190000
DTEND;TZID=Asia/Tokyo:20241107T200000
DTSTAMP:20260421T105127
CREATED:20241001T011546Z
LAST-MODIFIED:20241001T011546Z
UID:1597-1731006000-1731009600@sumidazemi.com
SUMMARY:被災に備える勉強会～墨田で生き残る方法～
DESCRIPTION:https://sumidazemi.com/nekozuki-2/
URL:https://sumidazemi.com/event/nekozuki-2-2/
CATEGORIES:学ぶ
ATTACH;FMTTYPE=image/jpeg:https://sumidazemi.com/wp-content/uploads/2024/09/2024年墨田区　すみだまちゼミ-2.jpg
END:VEVENT
BEGIN:VEVENT
DTSTART;TZID=Asia/Tokyo:20241106T193000
DTEND;TZID=Asia/Tokyo:20241106T210000
DTSTAMP:20260421T105127
CREATED:20241001T012120Z
LAST-MODIFIED:20241001T012120Z
UID:1606-1730921400-1730926800@sumidazemi.com
SUMMARY:地域コミュニティのつくり方
DESCRIPTION:https://sumidazemi.com/yorimichi-10/
URL:https://sumidazemi.com/event/yorimichi-10-2/
CATEGORIES:学ぶ
ATTACH;FMTTYPE=image/jpeg:https://sumidazemi.com/wp-content/uploads/2024/09/2024年墨田区　すみだまちゼミ-11.jpg
END:VEVENT
BEGIN:VEVENT
DTSTART;TZID=Asia/Tokyo:20241105T193000
DTEND;TZID=Asia/Tokyo:20241105T210000
DTSTAMP:20260421T105127
CREATED:20241001T012500Z
LAST-MODIFIED:20241001T012500Z
UID:1612-1730835000-1730840400@sumidazemi.com
SUMMARY:小さな居場所のつくり方
DESCRIPTION:https://sumidazemi.com/yorimichi-11/
URL:https://sumidazemi.com/event/yorimichi-11-3/
CATEGORIES:学ぶ
ATTACH;FMTTYPE=image/jpeg:https://sumidazemi.com/wp-content/uploads/2024/09/2024年墨田区　すみだまちゼミ-5.jpg
END:VEVENT
BEGIN:VEVENT
DTSTART;TZID=Asia/Tokyo:20241103T110000
DTEND;TZID=Asia/Tokyo:20241103T120000
DTSTAMP:20260421T105127
CREATED:20241001T013037Z
LAST-MODIFIED:20241001T013037Z
UID:1620-1730631600-1730635200@sumidazemi.com
SUMMARY:墨田区に喫茶店・カフェが多い訳　～すみだ喫茶天国
DESCRIPTION:https://sumidazemi.com/visitsumida/
URL:https://sumidazemi.com/event/visitsumida-2/
CATEGORIES:学ぶ
ATTACH;FMTTYPE=image/jpeg:https://sumidazemi.com/wp-content/uploads/2024/09/2024年墨田区　すみだまちゼミ-15.jpg
END:VEVENT
BEGIN:VEVENT
DTSTART;TZID=Asia/Tokyo:20241102T140000
DTEND;TZID=Asia/Tokyo:20241102T150000
DTSTAMP:20260421T105127
CREATED:20241001T014304Z
LAST-MODIFIED:20241001T014304Z
UID:1643-1730556000-1730559600@sumidazemi.com
SUMMARY:発見！すみだの魅力あれこれ
DESCRIPTION:https://sumidazemi.com/visit-sumida-14/
URL:https://sumidazemi.com/event/visit-sumida-14/
CATEGORIES:学ぶ
ATTACH;FMTTYPE=image/jpeg:https://sumidazemi.com/wp-content/uploads/2024/09/2024年墨田区　すみだまちゼミ-13.jpg
END:VEVENT
BEGIN:VEVENT
DTSTART;TZID=Asia/Tokyo:20241102T110000
DTEND;TZID=Asia/Tokyo:20241102T120000
DTSTAMP:20260421T105127
CREATED:20241001T010949Z
LAST-MODIFIED:20241001T010949Z
UID:1588-1730545200-1730548800@sumidazemi.com
SUMMARY:プログラミング教室
DESCRIPTION:https://sumidazemi.com/daiichi/
URL:https://sumidazemi.com/event/daiichi-2/
CATEGORIES:学ぶ
ATTACH;FMTTYPE=image/jpeg:https://sumidazemi.com/wp-content/uploads/2024/09/2024年墨田区　すみだまちゼミ-48.jpg
END:VEVENT
BEGIN:VEVENT
DTSTART;TZID=Asia/Tokyo:20241102T100000
DTEND;TZID=Asia/Tokyo:20241102T110000
DTSTAMP:20260421T105127
CREATED:20241001T013721Z
LAST-MODIFIED:20241001T013721Z
UID:1633-1730541600-1730545200@sumidazemi.com
SUMMARY:向島を描いた北斎とライバルたち
DESCRIPTION:https://sumidazemi.com/visit-sumida-11/
URL:https://sumidazemi.com/event/visit-sumida-11-2/
CATEGORIES:学ぶ
ATTACH;FMTTYPE=image/jpeg:https://sumidazemi.com/wp-content/uploads/2024/09/2024年墨田区　すみだまちゼミ-19.jpg
END:VEVENT
BEGIN:VEVENT
DTSTART;TZID=Asia/Tokyo:20241102T100000
DTEND;TZID=Asia/Tokyo:20241102T110000
DTSTAMP:20260421T105127
CREATED:20241001T011853Z
LAST-MODIFIED:20241001T011853Z
UID:1602-1730541600-1730545200@sumidazemi.com
SUMMARY:地域活動の始め方
DESCRIPTION:https://sumidazemi.com/yorimichi-9/
URL:https://sumidazemi.com/event/yorimichi-9-2/
CATEGORIES:学ぶ
ATTACH;FMTTYPE=image/jpeg:https://sumidazemi.com/wp-content/uploads/2024/09/2024年墨田区　すみだまちゼミ-5.jpg
END:VEVENT
END:VCALENDAR