BEGIN:VCALENDAR
VERSION:2.0
PRODID:-//【得する街のゼミナール】すみだまちゼミ - ECPv6.7.0//NONSGML v1.0//EN
CALSCALE:GREGORIAN
METHOD:PUBLISH
X-ORIGINAL-URL:https://sumidazemi.com
X-WR-CALDESC:【得する街のゼミナール】すみだまちゼミ のイベント
REFRESH-INTERVAL;VALUE=DURATION:PT1H
X-Robots-Tag:noindex
X-PUBLISHED-TTL:PT1H
BEGIN:VTIMEZONE
TZID:Asia/Tokyo
BEGIN:STANDARD
TZOFFSETFROM:+0900
TZOFFSETTO:+0900
TZNAME:JST
DTSTART:20250101T000000
END:STANDARD
END:VTIMEZONE
BEGIN:VEVENT
DTSTART;TZID=Asia/Tokyo:20250816T140000
DTEND;TZID=Asia/Tokyo:20250816T150000
DTSTAMP:20260421T122424
CREATED:20250709T031615Z
LAST-MODIFIED:20250709T031615Z
UID:2772-1755352800-1755356400@sumidazemi.com
SUMMARY:これ何の形？名前の漢字のルーツを探ろう！2025
DESCRIPTION:これ何の形？名前の漢字のルーツを探ろう！20252025.7.8自分の名前の漢字は、古代文字だったらどんな形かな？ハンコヤが使う重～い字典で調べて書いてみよう！【慶文堂 　東京都墨田1-14-23】...
URL:https://sumidazemi.com/event/kbd-10/
CATEGORIES:学ぶ
ATTACH;FMTTYPE=image/png:https://sumidazemi.com/wp-content/uploads/2025/07/10.png
END:VEVENT
BEGIN:VEVENT
DTSTART;TZID=Asia/Tokyo:20250816T173000
DTEND;TZID=Asia/Tokyo:20250816T183000
DTSTAMP:20260421T122424
CREATED:20250711T085723Z
LAST-MODIFIED:20250711T085723Z
UID:2824-1755365400-1755369000@sumidazemi.com
SUMMARY:【20代女性限定】転職・キャリア相談会
DESCRIPTION:【20代女性限定】転職・キャリア相談会2025.8.29「キャリア×人生×私～未来戦略Lab～」ビジョンの描き方、恋愛、就活なんでも気軽に相談OK！【ANGEL PATRONAGE　 東京都墨田区両国2-18-4】...
URL:https://sumidazemi.com/event/angel-patronage/
CATEGORIES:学ぶ
ATTACH;FMTTYPE=image/png:https://sumidazemi.com/wp-content/uploads/2025/07/17.png
END:VEVENT
BEGIN:VEVENT
DTSTART;TZID=Asia/Tokyo:20250816T193000
DTEND;TZID=Asia/Tokyo:20250816T203000
DTSTAMP:20260421T122424
CREATED:20250711T090043Z
LAST-MODIFIED:20250711T090043Z
UID:2826-1755372600-1755376200@sumidazemi.com
SUMMARY:【20代女性限定】転職・キャリア相談会
DESCRIPTION:【20代女性限定】転職・キャリア相談会2025.8.29「キャリア×人生×私～未来戦略Lab～」ビジョンの描き方、恋愛、就活なんでも気軽に相談OK！【ANGEL PATRONAGE　 東京都墨田区両国2-18-4】...
URL:https://sumidazemi.com/event/angel-patronage-2/
CATEGORIES:学ぶ
ATTACH;FMTTYPE=image/png:https://sumidazemi.com/wp-content/uploads/2025/07/17.png
END:VEVENT
BEGIN:VEVENT
DTSTART;TZID=Asia/Tokyo:20250817T190000
DTEND;TZID=Asia/Tokyo:20250817T203000
DTSTAMP:20260421T122424
CREATED:20250711T070926Z
LAST-MODIFIED:20250711T071158Z
UID:2806-1755457200-1755462600@sumidazemi.com
SUMMARY:被災に備える勉強会2025
DESCRIPTION:被災に備える勉強会20252025.8.11すみだで被災を想定したら何が必要？生き残った後の生活は？わかりやすくリアルに解説していきます。【厚焼きホットケーキのお店「ねこづき」 　東京都墨田区太平3-14-2】...
URL:https://sumidazemi.com/event/nekozuki-4/
CATEGORIES:学ぶ
ATTACH;FMTTYPE=image/png:https://sumidazemi.com/wp-content/uploads/2025/07/13.png
END:VEVENT
BEGIN:VEVENT
DTSTART;TZID=Asia/Tokyo:20250818T130000
DTEND;TZID=Asia/Tokyo:20250818T140000
DTSTAMP:20260421T122424
CREATED:20250711T080250Z
LAST-MODIFIED:20250711T080250Z
UID:2818-1755522000-1755525600@sumidazemi.com
SUMMARY:【初級】誰でも簡単ChatGPT活用講座
DESCRIPTION:【初級】誰でも簡単ChatGPT活用講座2025.7.8内容 ChatGPTの基本操作から日常や仕事での活用法までを丁寧に解説。 講師 福田慎也 日時 日付時間空き8/18 月13:00～14:00〇8/25 月13:00～14:00〇...
URL:https://sumidazemi.com/event/creativepocket/
CATEGORIES:学ぶ
ATTACH;FMTTYPE=image/png:https://sumidazemi.com/wp-content/uploads/2025/07/16.png
END:VEVENT
BEGIN:VEVENT
DTSTART;TZID=Asia/Tokyo:20250820T193000
DTEND;TZID=Asia/Tokyo:20250820T210000
DTSTAMP:20260421T122424
CREATED:20250709T033253Z
LAST-MODIFIED:20250709T033253Z
UID:2786-1755718200-1755723600@sumidazemi.com
SUMMARY:名刺は分身！印象に残る名刺とは？
DESCRIPTION:名刺は分身！印象に残る名刺とは？2025.8.19はじめての方も安心！名刺の歴史やデザインの基本、印象に残る名刺の作り方を解説します。【有限会社エースプリント　東京都墨田区太平2-16-11　千葉ビル１F】...
URL:https://sumidazemi.com/event/aceprint/
CATEGORIES:学ぶ
ATTACH;FMTTYPE=image/png:https://sumidazemi.com/wp-content/uploads/2025/07/11.png
END:VEVENT
BEGIN:VEVENT
DTSTART;TZID=Asia/Tokyo:20250821T190000
DTEND;TZID=Asia/Tokyo:20250821T203000
DTSTAMP:20260421T122424
CREATED:20250711T071028Z
LAST-MODIFIED:20250711T071028Z
UID:2808-1755802800-1755808200@sumidazemi.com
SUMMARY:被災に備える勉強会2025
DESCRIPTION:被災に備える勉強会20252025.8.11すみだで被災を想定したら何が必要？生き残った後の生活は？わかりやすくリアルに解説していきます。【厚焼きホットケーキのお店「ねこづき」 　東京都墨田区太平3-14-2】...
URL:https://sumidazemi.com/event/nekozuki-5/
CATEGORIES:学ぶ
ATTACH;FMTTYPE=image/png:https://sumidazemi.com/wp-content/uploads/2025/07/13.png
END:VEVENT
BEGIN:VEVENT
DTSTART;TZID=Asia/Tokyo:20250823T140000
DTEND;TZID=Asia/Tokyo:20250823T150000
DTSTAMP:20260421T122424
CREATED:20250709T031708Z
LAST-MODIFIED:20250709T031708Z
UID:2774-1755957600-1755961200@sumidazemi.com
SUMMARY:これ何の形？名前の漢字のルーツを探ろう！2025
DESCRIPTION:これ何の形？名前の漢字のルーツを探ろう！20252025.7.8自分の名前の漢字は、古代文字だったらどんな形かな？ハンコヤが使う重～い字典で調べて書いてみよう！【慶文堂 　東京都墨田1-14-23】...
URL:https://sumidazemi.com/event/kdd/
CATEGORIES:学ぶ
ATTACH;FMTTYPE=image/png:https://sumidazemi.com/wp-content/uploads/2025/07/10.png
END:VEVENT
BEGIN:VEVENT
DTSTART;TZID=Asia/Tokyo:20250825T130000
DTEND;TZID=Asia/Tokyo:20250825T140000
DTSTAMP:20260421T122424
CREATED:20250711T080348Z
LAST-MODIFIED:20250711T080348Z
UID:2820-1756126800-1756130400@sumidazemi.com
SUMMARY:【初級】誰でも簡単ChatGPT活用講座
DESCRIPTION:【初級】誰でも簡単ChatGPT活用講座2025.7.8内容 ChatGPTの基本操作から日常や仕事での活用法までを丁寧に解説。 講師 福田慎也 日時 日付時間空き8/18 月13:00～14:00〇8/25 月13:00～14:00〇...
URL:https://sumidazemi.com/event/creativepocket-2/
CATEGORIES:学ぶ
ATTACH;FMTTYPE=image/png:https://sumidazemi.com/wp-content/uploads/2025/07/15.png
END:VEVENT
BEGIN:VEVENT
DTSTART;TZID=Asia/Tokyo:20250826T140000
DTEND;TZID=Asia/Tokyo:20250826T150000
DTSTAMP:20260421T122424
CREATED:20250711T092033Z
LAST-MODIFIED:20250711T092033Z
UID:2848-1756216800-1756220400@sumidazemi.com
SUMMARY:保育士に子どもの発達を相談してみよう！
DESCRIPTION:保育士に子どもの発達を相談してみよう！2025.8.9地域で子育て支援施設を運営している保育士に、お子さんの発達について相談してみませんか？【こどもひろばアカシア　墨田区菊川1-1-11　プレシャス101】...
URL:https://sumidazemi.com/event/akashia/
CATEGORIES:学ぶ
ATTACH;FMTTYPE=image/png:https://sumidazemi.com/wp-content/uploads/2025/07/29.png
END:VEVENT
BEGIN:VEVENT
DTSTART;TZID=Asia/Tokyo:20250827T100000
DTEND;TZID=Asia/Tokyo:20250827T113000
DTSTAMP:20260421T122424
CREATED:20250711T090632Z
LAST-MODIFIED:20250711T090632Z
UID:2838-1756288800-1756294200@sumidazemi.com
SUMMARY:対話の場のつくり方
DESCRIPTION:対話の場のつくり方2025.7.8ワークショップや読書会など、目的に合わせた「対話の場」づくりについて一緒に考えてみましょう！【よりみち自由室　東京都墨田区押上2-28-3】...
URL:https://sumidazemi.com/event/yorimichi-5/
CATEGORIES:学ぶ
ATTACH;FMTTYPE=image/png:https://sumidazemi.com/wp-content/uploads/2025/07/19.png
END:VEVENT
BEGIN:VEVENT
DTSTART;TZID=Asia/Tokyo:20250827T193000
DTEND;TZID=Asia/Tokyo:20250827T203000
DTSTAMP:20260421T122424
CREATED:20250711T090132Z
LAST-MODIFIED:20250711T090132Z
UID:2828-1756323000-1756326600@sumidazemi.com
SUMMARY:【20代女性限定】転職・キャリア相談会
DESCRIPTION:【20代女性限定】転職・キャリア相談会2025.8.29「キャリア×人生×私～未来戦略Lab～」ビジョンの描き方、恋愛、就活なんでも気軽に相談OK！【ANGEL PATRONAGE　 東京都墨田区両国2-18-4】...
URL:https://sumidazemi.com/event/angel-patronage-7/
CATEGORIES:学ぶ
ATTACH;FMTTYPE=image/png:https://sumidazemi.com/wp-content/uploads/2025/07/17.png
END:VEVENT
BEGIN:VEVENT
DTSTART;TZID=Asia/Tokyo:20250827T193000
DTEND;TZID=Asia/Tokyo:20250827T210000
DTSTAMP:20260421T122424
CREATED:20250709T033348Z
LAST-MODIFIED:20250709T033348Z
UID:2788-1756323000-1756328400@sumidazemi.com
SUMMARY:名刺は分身！印象に残る名刺とは？
DESCRIPTION:名刺は分身！印象に残る名刺とは？2025.8.19はじめての方も安心！名刺の歴史やデザインの基本、印象に残る名刺の作り方を解説します。【有限会社エースプリント　東京都墨田区太平2-16-11　千葉ビル１F】...
URL:https://sumidazemi.com/event/aceprint-2/
CATEGORIES:学ぶ
ATTACH;FMTTYPE=image/png:https://sumidazemi.com/wp-content/uploads/2025/07/11.png
END:VEVENT
BEGIN:VEVENT
DTSTART;TZID=Asia/Tokyo:20250828T100000
DTEND;TZID=Asia/Tokyo:20250828T113000
DTSTAMP:20260421T122424
CREATED:20250711T090448Z
LAST-MODIFIED:20250711T090448Z
UID:2834-1756375200-1756380600@sumidazemi.com
SUMMARY:小さな居場所のつくり方2025
DESCRIPTION:小さな居場所のつくり方20252025.7.8自宅や集会所、空き店舗など、ちょっとしたスペースを使った小さな居場所のつくりかたを学べます。【よりみち自由室　東京都墨田区押上2-28-3】...
URL:https://sumidazemi.com/event/yorimichi-3/
CATEGORIES:学ぶ
ATTACH;FMTTYPE=image/png:https://sumidazemi.com/wp-content/uploads/2025/07/18.png
END:VEVENT
BEGIN:VEVENT
DTSTART;TZID=Asia/Tokyo:20250829T110000
DTEND;TZID=Asia/Tokyo:20250829T113000
DTSTAMP:20260421T122424
CREATED:20250709T025532Z
LAST-MODIFIED:20250709T025532Z
UID:2768-1756465200-1756467000@sumidazemi.com
SUMMARY:Made in SUMIDAを知る！
DESCRIPTION:Made in SUMIDAを知る！2025.7.8「ものづくりのまちすみだ」を知ろう！すみだの『ものづくりの名産品』を揃えた”コネクトすみだ まち処”でMade in SUMIDAの商品を実際に見ながらご紹介。何気なく使っているも...
URL:https://sumidazemi.com/event/sumida/
CATEGORIES:学ぶ
ATTACH;FMTTYPE=image/png:https://sumidazemi.com/wp-content/uploads/2025/07/9.png
END:VEVENT
BEGIN:VEVENT
DTSTART;TZID=Asia/Tokyo:20250830T110000
DTEND;TZID=Asia/Tokyo:20250830T113000
DTSTAMP:20260421T122424
CREATED:20250709T025629Z
LAST-MODIFIED:20250709T025629Z
UID:2770-1756551600-1756553400@sumidazemi.com
SUMMARY:Made in SUMIDAを知る！
DESCRIPTION:Made in SUMIDAを知る！2025.7.8「ものづくりのまちすみだ」を知ろう！すみだの『ものづくりの名産品』を揃えた”コネクトすみだ まち処”でMade in SUMIDAの商品を実際に見ながらご紹介。何気なく使っているも...
URL:https://sumidazemi.com/event/sumida-2/
CATEGORIES:学ぶ
ATTACH;FMTTYPE=image/png:https://sumidazemi.com/wp-content/uploads/2025/07/9.png
END:VEVENT
BEGIN:VEVENT
DTSTART;TZID=Asia/Tokyo:20250830T140000
DTEND;TZID=Asia/Tokyo:20250830T150000
DTSTAMP:20260421T122424
CREATED:20250709T031800Z
LAST-MODIFIED:20250709T031800Z
UID:2776-1756562400-1756566000@sumidazemi.com
SUMMARY:これ何の形？名前の漢字のルーツを探ろう！2025
DESCRIPTION:これ何の形？名前の漢字のルーツを探ろう！20252025.7.8自分の名前の漢字は、古代文字だったらどんな形かな？ハンコヤが使う重～い字典で調べて書いてみよう！【慶文堂 　東京都墨田1-14-23】...
URL:https://sumidazemi.com/event/kbd-11/
CATEGORIES:学ぶ
ATTACH;FMTTYPE=image/png:https://sumidazemi.com/wp-content/uploads/2025/07/10.png
END:VEVENT
BEGIN:VEVENT
DTSTART;TZID=Asia/Tokyo:20250831T153000
DTEND;TZID=Asia/Tokyo:20250831T163000
DTSTAMP:20260421T122424
CREATED:20250711T093459Z
LAST-MODIFIED:20250711T093459Z
UID:2858-1756654200-1756657800@sumidazemi.com
SUMMARY:小さいお店/会社もホームページを持とう!
DESCRIPTION:小さいお店/会社もホームページを持とう!　〜ビジネスホームページの勉強会〜2025.9.16今回はホームページをお持ちでない方限定企画です。【デザインスタジオウイング　東京都墨田区太平4-20-5】...
URL:https://sumidazemi.com/event/design-studio-wing/
CATEGORIES:学ぶ
ATTACH;FMTTYPE=image/png:https://sumidazemi.com/wp-content/uploads/2025/07/22.png
END:VEVENT
BEGIN:VEVENT
DTSTART;TZID=Asia/Tokyo:20250901T190000
DTEND;TZID=Asia/Tokyo:20250901T203000
DTSTAMP:20260421T122424
CREATED:20250711T071316Z
LAST-MODIFIED:20250711T071316Z
UID:2810-1756753200-1756758600@sumidazemi.com
SUMMARY:SNSやWEBサイトは何をやればいい？
DESCRIPTION:SNSやWEBサイトは何をやればいい？2025.9.19【初級編】集客・求人など今はSNSで行う事も増えました。今更聞けないSNSやWEBサイト のお話です。【現場喫茶(株式会社髙橋工業)墨田区押上1-45-1】...
URL:https://sumidazemi.com/event/genbacafe/
CATEGORIES:学ぶ
ATTACH;FMTTYPE=image/png:https://sumidazemi.com/wp-content/uploads/2025/07/14.png
END:VEVENT
BEGIN:VEVENT
DTSTART;TZID=Asia/Tokyo:20250901T193000
DTEND;TZID=Asia/Tokyo:20250901T210000
DTSTAMP:20260421T122424
CREATED:20250711T090720Z
LAST-MODIFIED:20250711T090720Z
UID:2840-1756755000-1756760400@sumidazemi.com
SUMMARY:対話の場のつくり方
DESCRIPTION:対話の場のつくり方2025.7.8ワークショップや読書会など、目的に合わせた「対話の場」づくりについて一緒に考えてみましょう！【よりみち自由室　東京都墨田区押上2-28-3】...
URL:https://sumidazemi.com/event/yorimichi-6/
CATEGORIES:学ぶ
ATTACH;FMTTYPE=image/png:https://sumidazemi.com/wp-content/uploads/2025/07/19.png
END:VEVENT
BEGIN:VEVENT
DTSTART;TZID=Asia/Tokyo:20250902T140000
DTEND;TZID=Asia/Tokyo:20250902T150000
DTSTAMP:20260421T122424
CREATED:20250711T092129Z
LAST-MODIFIED:20250711T092129Z
UID:2850-1756821600-1756825200@sumidazemi.com
SUMMARY:保育士に子どもの発達を相談してみよう！
DESCRIPTION:保育士に子どもの発達を相談してみよう！2025.8.9地域で子育て支援施設を運営している保育士に、お子さんの発達について相談してみませんか？【こどもひろばアカシア　墨田区菊川1-1-11　プレシャス101】...
URL:https://sumidazemi.com/event/akashia-2/
CATEGORIES:学ぶ
ATTACH;FMTTYPE=image/png:https://sumidazemi.com/wp-content/uploads/2025/07/29.png
END:VEVENT
BEGIN:VEVENT
DTSTART;TZID=Asia/Tokyo:20250902T190000
DTEND;TZID=Asia/Tokyo:20250902T203000
DTSTAMP:20260421T122424
CREATED:20250711T080044Z
LAST-MODIFIED:20250711T080044Z
UID:2814-1756839600-1756845000@sumidazemi.com
SUMMARY:分譲マンションの管理組合向け勉強会
DESCRIPTION:分譲マンションの管理組合向け勉強会2025.8.7理事長歴10年の講師が、長期修繕計画など修繕の話をメインに話題の談合から資産価値について話します。【株式会社髙橋工業　墨田区押上1-45-1】...
URL:https://sumidazemi.com/event/takahashi/
CATEGORIES:学ぶ
ATTACH;FMTTYPE=image/png:https://sumidazemi.com/wp-content/uploads/2025/07/15.png
END:VEVENT
BEGIN:VEVENT
DTSTART;TZID=Asia/Tokyo:20250902T193000
DTEND;TZID=Asia/Tokyo:20250902T210000
DTSTAMP:20260421T122424
CREATED:20250711T090353Z
LAST-MODIFIED:20250711T090353Z
UID:2832-1756841400-1756846800@sumidazemi.com
SUMMARY:小さな居場所のつくり方2025
DESCRIPTION:小さな居場所のつくり方20252025.7.8自宅や集会所、空き店舗など、ちょっとしたスペースを使った小さな居場所のつくりかたを学べます。【よりみち自由室　東京都墨田区押上2-28-3】...
URL:https://sumidazemi.com/event/yorimichi-2/
CATEGORIES:学ぶ
ATTACH;FMTTYPE=image/png:https://sumidazemi.com/wp-content/uploads/2025/07/18.png
END:VEVENT
BEGIN:VEVENT
DTSTART;TZID=Asia/Tokyo:20250903T193000
DTEND;TZID=Asia/Tokyo:20250903T210000
DTSTAMP:20260421T122424
CREATED:20250709T033443Z
LAST-MODIFIED:20250709T033443Z
UID:2790-1756927800-1756933200@sumidazemi.com
SUMMARY:名刺は分身！印象に残る名刺とは？
DESCRIPTION:名刺は分身！印象に残る名刺とは？2025.8.19はじめての方も安心！名刺の歴史やデザインの基本、印象に残る名刺の作り方を解説します。【有限会社エースプリント　東京都墨田区太平2-16-11　千葉ビル１F】...
URL:https://sumidazemi.com/event/aceprint-3/
CATEGORIES:学ぶ
ATTACH;FMTTYPE=image/png:https://sumidazemi.com/wp-content/uploads/2025/07/11.png
END:VEVENT
BEGIN:VEVENT
DTSTART;TZID=Asia/Tokyo:20250906T140000
DTEND;TZID=Asia/Tokyo:20250906T150000
DTSTAMP:20260421T122424
CREATED:20250709T031855Z
LAST-MODIFIED:20250709T031855Z
UID:2778-1757167200-1757170800@sumidazemi.com
SUMMARY:これ何の形？名前の漢字のルーツを探ろう！2025
DESCRIPTION:これ何の形？名前の漢字のルーツを探ろう！20252025.7.8自分の名前の漢字は、古代文字だったらどんな形かな？ハンコヤが使う重～い字典で調べて書いてみよう！【慶文堂 　東京都墨田1-14-23】...
URL:https://sumidazemi.com/event/kbd-12/
CATEGORIES:学ぶ
ATTACH;FMTTYPE=image/png:https://sumidazemi.com/wp-content/uploads/2025/07/10.png
END:VEVENT
BEGIN:VEVENT
DTSTART;TZID=Asia/Tokyo:20250906T170000
DTEND;TZID=Asia/Tokyo:20250906T180000
DTSTAMP:20260421T122424
CREATED:20250709T033704Z
LAST-MODIFIED:20250709T033704Z
UID:2794-1757178000-1757181600@sumidazemi.com
SUMMARY:知らないと損？ふたつの"そうぞく"2025
DESCRIPTION:知らないと損？ふたつの"そうぞく"20252025.7.8あなたの知らないふたつの"そうぞく"とは？今から準備出来る事とは？【明治安田生命 スカイツリー前営業所　東京都墨田区押上1-1-2　東京スカイツリーイーストタワー17階】...
URL:https://sumidazemi.com/event/meijiyasuda-9/
CATEGORIES:学ぶ
ATTACH;FMTTYPE=image/png:https://sumidazemi.com/wp-content/uploads/2025/07/12.png
END:VEVENT
BEGIN:VEVENT
DTSTART;TZID=Asia/Tokyo:20250908T190000
DTEND;TZID=Asia/Tokyo:20250908T203000
DTSTAMP:20260421T122424
CREATED:20250711T071425Z
LAST-MODIFIED:20250711T071425Z
UID:2812-1757358000-1757363400@sumidazemi.com
SUMMARY:SNSやWEBサイトは何をやればいい？
DESCRIPTION:SNSやWEBサイトは何をやればいい？2025.9.19【初級編】集客・求人など今はSNSで行う事も増えました。今更聞けないSNSやWEBサイト のお話です。【現場喫茶(株式会社髙橋工業)墨田区押上1-45-1】...
URL:https://sumidazemi.com/event/genbacafe-2/
CATEGORIES:学ぶ
ATTACH;FMTTYPE=image/png:https://sumidazemi.com/wp-content/uploads/2025/07/14.png
END:VEVENT
BEGIN:VEVENT
DTSTART;TZID=Asia/Tokyo:20250909T140000
DTEND;TZID=Asia/Tokyo:20250909T150000
DTSTAMP:20260421T122424
CREATED:20250711T092210Z
LAST-MODIFIED:20250711T092210Z
UID:2852-1757426400-1757430000@sumidazemi.com
SUMMARY:保育士に子どもの発達を相談してみよう！
DESCRIPTION:保育士に子どもの発達を相談してみよう！2025.8.9地域で子育て支援施設を運営している保育士に、お子さんの発達について相談してみませんか？【こどもひろばアカシア　墨田区菊川1-1-11　プレシャス101】...
URL:https://sumidazemi.com/event/akashia-3/
CATEGORIES:学ぶ
ATTACH;FMTTYPE=image/png:https://sumidazemi.com/wp-content/uploads/2025/07/29.png
END:VEVENT
BEGIN:VEVENT
DTSTART;TZID=Asia/Tokyo:20250909T190000
DTEND;TZID=Asia/Tokyo:20250909T203000
DTSTAMP:20260421T122424
CREATED:20250711T080134Z
LAST-MODIFIED:20250711T080134Z
UID:2816-1757444400-1757449800@sumidazemi.com
SUMMARY:分譲マンションの管理組合向け勉強会
DESCRIPTION:分譲マンションの管理組合向け勉強会2025.8.7理事長歴10年の講師が、長期修繕計画など修繕の話をメインに話題の談合から資産価値について話します。【株式会社髙橋工業　墨田区押上1-45-1】...
URL:https://sumidazemi.com/event/takahashi-2/
CATEGORIES:学ぶ
ATTACH;FMTTYPE=image/png:https://sumidazemi.com/wp-content/uploads/2025/07/15.png
END:VEVENT
BEGIN:VEVENT
DTSTART;TZID=Asia/Tokyo:20250909T193000
DTEND;TZID=Asia/Tokyo:20250909T203000
DTSTAMP:20260421T122424
CREATED:20250711T091027Z
LAST-MODIFIED:20250711T091027Z
UID:2844-1757446200-1757449800@sumidazemi.com
SUMMARY:女性向けAI活用講座！時短で定時に帰ろう
DESCRIPTION:女性向けAI活用講座！時短で定時に帰ろう2025.9.3ChatGPTで簡単時短！Excelも文章作成もラクラク！AI活用講座。【すみまめカフェ　墨田区京島3-39-8】...
URL:https://sumidazemi.com/event/sumimame/
CATEGORIES:学ぶ
ATTACH;FMTTYPE=image/png:https://sumidazemi.com/wp-content/uploads/2025/07/20.png
END:VEVENT
END:VCALENDAR