BEGIN:VCALENDAR
VERSION:2.0
PRODID:-//【得する街のゼミナール】すみだまちゼミ - ECPv6.7.0//NONSGML v1.0//EN
CALSCALE:GREGORIAN
METHOD:PUBLISH
X-ORIGINAL-URL:https://sumidazemi.com
X-WR-CALDESC:【得する街のゼミナール】すみだまちゼミ のイベント
REFRESH-INTERVAL;VALUE=DURATION:PT1H
X-Robots-Tag:noindex
X-PUBLISHED-TTL:PT1H
BEGIN:VTIMEZONE
TZID:Asia/Tokyo
BEGIN:STANDARD
TZOFFSETFROM:+0900
TZOFFSETTO:+0900
TZNAME:JST
DTSTART:20250101T000000
END:STANDARD
END:VTIMEZONE
BEGIN:VEVENT
DTSTART;TZID=Asia/Tokyo:20250817T190000
DTEND;TZID=Asia/Tokyo:20250817T203000
DTSTAMP:20260421T064841
CREATED:20250711T070926Z
LAST-MODIFIED:20250711T071158Z
UID:2806-1755457200-1755462600@sumidazemi.com
SUMMARY:被災に備える勉強会2025
DESCRIPTION:被災に備える勉強会20252025.8.11すみだで被災を想定したら何が必要？生き残った後の生活は？わかりやすくリアルに解説していきます。【厚焼きホットケーキのお店「ねこづき」 　東京都墨田区太平3-14-2】...
URL:https://sumidazemi.com/event/nekozuki-4/
CATEGORIES:学ぶ
ATTACH;FMTTYPE=image/png:https://sumidazemi.com/wp-content/uploads/2025/07/13.png
END:VEVENT
END:VCALENDAR