BEGIN:VCALENDAR
VERSION:2.0
PRODID:-//【得する街のゼミナール】すみだまちゼミ - ECPv6.7.0//NONSGML v1.0//EN
CALSCALE:GREGORIAN
METHOD:PUBLISH
X-WR-CALNAME:【得する街のゼミナール】すみだまちゼミ
X-ORIGINAL-URL:https://sumidazemi.com
X-WR-CALDESC:【得する街のゼミナール】すみだまちゼミ のイベント
REFRESH-INTERVAL;VALUE=DURATION:PT1H
X-Robots-Tag:noindex
X-PUBLISHED-TTL:PT1H
BEGIN:VTIMEZONE
TZID:Asia/Tokyo
BEGIN:STANDARD
TZOFFSETFROM:+0900
TZOFFSETTO:+0900
TZNAME:JST
DTSTART:20250101T000000
END:STANDARD
END:VTIMEZONE
BEGIN:VEVENT
DTSTART;TZID=Asia/Tokyo:20250825T130000
DTEND;TZID=Asia/Tokyo:20250825T140000
DTSTAMP:20260421T064819
CREATED:20250711T080348Z
LAST-MODIFIED:20250711T080348Z
UID:2820-1756126800-1756130400@sumidazemi.com
SUMMARY:【初級】誰でも簡単ChatGPT活用講座
DESCRIPTION:【初級】誰でも簡単ChatGPT活用講座2025.7.8内容 ChatGPTの基本操作から日常や仕事での活用法までを丁寧に解説。 講師 福田慎也 日時 日付時間空き8/18 月13:00～14:00〇8/25 月13:00～14:00〇...
URL:https://sumidazemi.com/event/creativepocket-2/
CATEGORIES:学ぶ
ATTACH;FMTTYPE=image/png:https://sumidazemi.com/wp-content/uploads/2025/07/15.png
END:VEVENT
END:VCALENDAR