BEGIN:VCALENDAR
VERSION:2.0
PRODID:-//【得する街のゼミナール】すみだまちゼミ - ECPv6.7.0//NONSGML v1.0//EN
CALSCALE:GREGORIAN
METHOD:PUBLISH
X-ORIGINAL-URL:https://sumidazemi.com
X-WR-CALDESC:【得する街のゼミナール】すみだまちゼミ のイベント
REFRESH-INTERVAL;VALUE=DURATION:PT1H
X-Robots-Tag:noindex
X-PUBLISHED-TTL:PT1H
BEGIN:VTIMEZONE
TZID:Asia/Tokyo
BEGIN:STANDARD
TZOFFSETFROM:+0900
TZOFFSETTO:+0900
TZNAME:JST
DTSTART:20250101T000000
END:STANDARD
END:VTIMEZONE
BEGIN:VEVENT
DTSTART;TZID=Asia/Tokyo:20250906T140000
DTEND;TZID=Asia/Tokyo:20250906T150000
DTSTAMP:20260421T051222
CREATED:20250709T031855Z
LAST-MODIFIED:20250709T031855Z
UID:2778-1757167200-1757170800@sumidazemi.com
SUMMARY:これ何の形？名前の漢字のルーツを探ろう！2025
DESCRIPTION:これ何の形？名前の漢字のルーツを探ろう！20252025.7.8自分の名前の漢字は、古代文字だったらどんな形かな？ハンコヤが使う重～い字典で調べて書いてみよう！【慶文堂 　東京都墨田1-14-23】...
URL:https://sumidazemi.com/event/kbd-12/
CATEGORIES:学ぶ
ATTACH;FMTTYPE=image/png:https://sumidazemi.com/wp-content/uploads/2025/07/10.png
END:VEVENT
BEGIN:VEVENT
DTSTART;TZID=Asia/Tokyo:20250906T170000
DTEND;TZID=Asia/Tokyo:20250906T180000
DTSTAMP:20260421T051222
CREATED:20250709T033704Z
LAST-MODIFIED:20250709T033704Z
UID:2794-1757178000-1757181600@sumidazemi.com
SUMMARY:知らないと損？ふたつの"そうぞく"2025
DESCRIPTION:知らないと損？ふたつの"そうぞく"20252025.7.8あなたの知らないふたつの"そうぞく"とは？今から準備出来る事とは？【明治安田生命 スカイツリー前営業所　東京都墨田区押上1-1-2　東京スカイツリーイーストタワー17階】...
URL:https://sumidazemi.com/event/meijiyasuda-9/
CATEGORIES:学ぶ
ATTACH;FMTTYPE=image/png:https://sumidazemi.com/wp-content/uploads/2025/07/12.png
END:VEVENT
END:VCALENDAR