BEGIN:VCALENDAR
VERSION:2.0
PRODID:-//【得する街のゼミナール】すみだまちゼミ - ECPv6.7.0//NONSGML v1.0//EN
CALSCALE:GREGORIAN
METHOD:PUBLISH
X-ORIGINAL-URL:https://sumidazemi.com
X-WR-CALDESC:【得する街のゼミナール】すみだまちゼミ のイベント
REFRESH-INTERVAL;VALUE=DURATION:PT1H
X-Robots-Tag:noindex
X-PUBLISHED-TTL:PT1H
BEGIN:VTIMEZONE
TZID:Asia/Tokyo
BEGIN:STANDARD
TZOFFSETFROM:+0900
TZOFFSETTO:+0900
TZNAME:JST
DTSTART:20250101T000000
END:STANDARD
END:VTIMEZONE
BEGIN:VEVENT
DTSTART;TZID=Asia/Tokyo:20250915T193000
DTEND;TZID=Asia/Tokyo:20250915T203000
DTSTAMP:20260421T051323
CREATED:20250711T090237Z
LAST-MODIFIED:20250711T090237Z
UID:2830-1757964600-1757968200@sumidazemi.com
SUMMARY:【20代女性限定】転職・キャリア相談会
DESCRIPTION:【20代女性限定】転職・キャリア相談会2025.8.29「キャリア×人生×私～未来戦略Lab～」ビジョンの描き方、恋愛、就活なんでも気軽に相談OK！【ANGEL PATRONAGE　 東京都墨田区両国2-18-4】...
URL:https://sumidazemi.com/event/angel-patronage-8/
CATEGORIES:学ぶ
ATTACH;FMTTYPE=image/png:https://sumidazemi.com/wp-content/uploads/2025/07/17.png
END:VEVENT
END:VCALENDAR