BEGIN:VCALENDAR
VERSION:2.0
PRODID:-//【得する街のゼミナール】すみだまちゼミ - ECPv6.7.0//NONSGML v1.0//EN
CALSCALE:GREGORIAN
METHOD:PUBLISH
X-ORIGINAL-URL:https://sumidazemi.com
X-WR-CALDESC:【得する街のゼミナール】すみだまちゼミ のイベント
REFRESH-INTERVAL;VALUE=DURATION:PT1H
X-Robots-Tag:noindex
X-PUBLISHED-TTL:PT1H
BEGIN:VTIMEZONE
TZID:Asia/Tokyo
BEGIN:STANDARD
TZOFFSETFROM:+0900
TZOFFSETTO:+0900
TZNAME:JST
DTSTART:20250101T000000
END:STANDARD
END:VTIMEZONE
BEGIN:VEVENT
DTSTART;TZID=Asia/Tokyo:20250925T190000
DTEND;TZID=Asia/Tokyo:20250925T203000
DTSTAMP:20260421T051324
CREATED:20250924T071104Z
LAST-MODIFIED:20250924T071104Z
UID:3164-1758826800-1758832200@sumidazemi.com
SUMMARY:SNSやWEBサイトは何をやればいい？
DESCRIPTION:SNSやWEBサイトは何をやればいい？2025.9.19【初級編】集客・求人など今はSNSで行う事も増えました。今更聞けないSNSやWEBサイト のお話です。【現場喫茶(株式会社髙橋工業)墨田区押上1-45-1】...
URL:https://sumidazemi.com/event/genbacafe-3/
CATEGORIES:学ぶ
ATTACH;FMTTYPE=image/png:https://sumidazemi.com/wp-content/uploads/2025/07/14.png
END:VEVENT
END:VCALENDAR